Workbook

Sheet Jadid households
A1: ردیف | B1: محله | C1: صفحه چاپی | D1: صفحه PDF | E1: نام چاپ‌شده | F1: نام استاندارد | G1: نام انگلیسی | H1: لقب | I1: پیشه | J1: Occupation (EN) | K1: رعایا | L1: اغنیاء | M1: نوکران دولت و آستانه | N1: State role (EN) | O1: مردان | P1: زنان | Q1: پیران | R1: جوانان | S1: پسران | T1: دختران | U1: شیرخوار پسر | V1: شیرخوار دختر | W1: جمع جمعیت (چاپی) | X1: جمع محاسبه‌شده | Y1: بررسی ۱ | Z1: بررسی ۲ | AA1: یادداشت
A2: Radif (row no.) | B2: Quarter | C2: Printed page | D2: PDF page | E2: Name as printed | F2: Name, standard spacing | G2: Name (English) | H2: Title | I2: Occupation | J2: Occupation (EN) | K2: Commoner | L2: Wealthy | M2: State/shrine role | N2: State role (EN) | O2: Men | P2: Women | Q2: Elderly | R2: Young adults | S2: Boys | T2: Girls | U2: Infant boys | V2: Infant girls | W2: Total as printed | X2: Total recomputed | Y2: Check 1: parts = total | Z2: Check 2: elderly+young = men+women | AA2: Notes
A3: 447 | B3: عیدگاه / Eidgah | C3: 171 | D3: 174 | E3: ملاسمعیل | F3: ملا اسمعیل | G3: Molla Esma'il | H3: Molla | I3: دلال | J3: Broker | K3: × | L3: × | O3: 2 | P3: 4 | Q3: 2 | R3: 4 | S3: 2 | T3: 4 | U3: 1 | V3: 0 | W3: 13 | X3: =O3+P3+S3+T3+U3+V3 | Y3: =IF(W3=X3,"OK","MISMATCH (see notes)") | Z3: =IF(Q3+R3=O3+P3,"OK","MISMATCH")
A4: 448 | B4: عیدگاه / Eidgah | C4: 171 | D4: 174 | E4: ملا رحمن | F4: ملا رحمن | G4: Molla Rahman | H4: Molla | I4: دلال | J4: Broker | K4: × | L4: × | O4: 2 | P4: 2 | Q4: 1 | R4: 3 | S4: 1 | T4: 2 | U4: 0 | V4: 0 | W4: 7 | X4: =O4+P4+S4+T4+U4+V4 | Y4: =IF(W4=X4,"OK","MISMATCH (see notes)") | Z4: =IF(Q4+R4=O4+P4,"OK","MISMATCH")
A5: 449 | B5: عیدگاه / Eidgah | C5: 171 | D5: 174 | E5: ملا اسمعیل | F5: ملا اسمعیل | G5: Molla Esma'il | H5: Molla | K5: × | L5: × | O5: 2 | P5: 3 | Q5: 2 | R5: 3 | S5: 1 | T5: 2 | U5: 0 | V5: 1 | W5: 9 | X5: =O5+P5+S5+T5+U5+V5 | Y5: =IF(W5=X5,"OK","MISMATCH (see notes)") | Z5: =IF(Q5+R5=O5+P5,"OK","MISMATCH")
A6: 451 | B6: عیدگاه / Eidgah | C6: 171 | D6: 174 | E6: ملا اسمعیل | F6: ملا اسمعیل | G6: Molla Esma'il | H6: Molla | K6: × | L6: × | O6: 1 | P6: 2 | Q6: 1 | R6: 2 | S6: 1 | T6: 3 | U6: 0 | V6: 0 | W6: 7 | X6: =O6+P6+S6+T6+U6+V6 | Y6: =IF(W6=X6,"OK","MISMATCH (see notes)") | Z6: =IF(Q6+R6=O6+P6,"OK","MISMATCH")
A7: 452 | B7: عیدگاه / Eidgah | C7: 171 | D7: 174 | E7: کربلایی‌اسمعیل | F7: کربلایی اسمعیل | G7: Karbala'i Esma'il | H7: Karbala'i | K7: × | L7: × | O7: 1 | P7: 2 | Q7: 1 | R7: 2 | S7: 1 | T7: 1 | U7: 1 | V7: 0 | W7: 6 | X7: =O7+P7+S7+T7+U7+V7 | Y7: =IF(W7=X7,"OK","MISMATCH (see notes)") | Z7: =IF(Q7+R7=O7+P7,"OK","MISMATCH")
A8: 453 | B8: عیدگاه / Eidgah | C8: 171 | D8: 174 | E8: شوقی | F8: شوقی | G8: Shoqi | K8: × | O8: 1 | P8: 2 | Q8: 1 | R8: 2 | S8: 3 | T8: 0 | U8: 0 | V8: 0 | W8: 6 | X8: =O8+P8+S8+T8+U8+V8 | Y8: =IF(W8=X8,"OK","MISMATCH (see notes)") | Z8: =IF(Q8+R8=O8+P8,"OK","MISMATCH")
A9: 454 | B9: عیدگاه / Eidgah | C9: 171 | D9: 174 | E9: ملابراهیم | F9: ملا ابراهیم | G9: Molla Ebrahim | H9: Molla | K9: × | L9: × | O9: 3 | P9: 2 | Q9: 2 | R9: 3 | S9: 1 | T9: 1 | U9: 0 | V9: 1 | W9: 8 | X9: =O9+P9+S9+T9+U9+V9 | Y9: =IF(W9=X9,"OK","MISMATCH (see notes)") | Z9: =IF(Q9+R9=O9+P9,"OK","MISMATCH")
A10: 455 | B10: عیدگاه / Eidgah | C10: 171 | D10: 174 | E10: ملا تقی | F10: ملا تقی | G10: Molla Taqi | H10: Molla | K10: × | O10: 1 | P10: 2 | Q10: 1 | R10: 2 | S10: 1 | T10: 2 | U10: 0 | V10: 0 | W10: 6 | X10: =O10+P10+S10+T10+U10+V10 | Y10: =IF(W10=X10,"OK","MISMATCH (see notes)") | Z10: =IF(Q10+R10=O10+P10,"OK","MISMATCH")
A11: 456 | B11: عیدگاه / Eidgah | C11: 172 | D11: 175 | E11: ملاموسی | F11: ملا موسی | G11: Molla Musa | H11: Molla | K11: × | L11: × | O11: 3 | P11: 2 | Q11: 2 | R11: 3 | S11: 5 | T11: 2 | U11: 0 | V11: 0 | W11: 13 | X11: =O11+P11+S11+T11+U11+V11 | Y11: =IF(W11=X11,"OK","MISMATCH (see notes)") | Z11: =IF(Q11+R11=O11+P11,"OK","MISMATCH") | AA11: Typo in the printed edition: printed row total is 13 but the parts add to 12; the page footer total (265) only works with 12. Row-total cell kept as printed.
A12: 462 | B12: عیدگاه / Eidgah | C12: 172 | D12: 175 | E12: ملا ابراهیم | F12: ملا ابراهیم | G12: Molla Ebrahim | H12: Molla | K12: × | L12: × | O12: 3 | P12: 4 | Q12: 2 | R12: 5 | S12: 1 | T12: 1 | U12: 0 | V12: 0 | W12: 9 | X12: =O12+P12+S12+T12+U12+V12 | Y12: =IF(W12=X12,"OK","MISMATCH (see notes)") | Z12: =IF(Q12+R12=O12+P12,"OK","MISMATCH")
A13: 465 | B13: عیدگاه / Eidgah | C13: 172 | D13: 175 | E13: یعقوب | F13: یعقوب | G13: Ya'qub | K13: × | L13: × | O13: 2 | P13: 5 | Q13: 3 | R13: 4 | S13: 1 | T13: 1 | U13: 0 | V13: 0 | W13: 9 | X13: =O13+P13+S13+T13+U13+V13 | Y13: =IF(W13=X13,"OK","MISMATCH (see notes)") | Z13: =IF(Q13+R13=O13+P13,"OK","MISMATCH")
A14: 466 | B14: عیدگاه / Eidgah | C14: 172 | D14: 175 | E14: ملابراهیم | F14: ملا ابراهیم | G14: Molla Ebrahim | H14: Molla | K14: × | L14: × | O14: 1 | P14: 4 | Q14: 2 | R14: 3 | S14: 3 | T14: 2 | U14: 0 | V14: 0 | W14: 10 | X14: =O14+P14+S14+T14+U14+V14 | Y14: =IF(W14=X14,"OK","MISMATCH (see notes)") | Z14: =IF(Q14+R14=O14+P14,"OK","MISMATCH")
A15: 467 | B15: عیدگاه / Eidgah | C15: 172 | D15: 175 | E15: ملابراهیم | F15: ملا ابراهیم | G15: Molla Ebrahim | H15: Molla | K15: × | L15: × | O15: 1 | P15: 2 | Q15: 2 | R15: 1 | S15: 0 | T15: 2 | U15: 1 | V15: 0 | W15: 6 | X15: =O15+P15+S15+T15+U15+V15 | Y15: =IF(W15=X15,"OK","MISMATCH (see notes)") | Z15: =IF(Q15+R15=O15+P15,"OK","MISMATCH")
A16: 470 | B16: عیدگاه / Eidgah | C16: 172 | D16: 175 | E16: ملا مهدی | F16: ملا مهدی | G16: Molla Mahdi | H16: Molla | K16: × | L16: × | O16: 3 | P16: 3 | Q16: 2 | R16: 4 | S16: 2 | T16: 0 | U16: 0 | V16: 1 | W16: 9 | X16: =O16+P16+S16+T16+U16+V16 | Y16: =IF(W16=X16,"OK","MISMATCH (see notes)") | Z16: =IF(Q16+R16=O16+P16,"OK","MISMATCH")
A17: 471 | B17: عیدگاه / Eidgah | C17: 172 | D17: 175 | E17: ملابراهیم | F17: ملا ابراهیم | G17: Molla Ebrahim | H17: Molla | K17: × | O17: 1 | P17: 2 | Q17: 1 | R17: 2 | S17: 0 | T17: 1 | U17: 0 | V17: 0 | W17: 4 | X17: =O17+P17+S17+T17+U17+V17 | Y17: =IF(W17=X17,"OK","MISMATCH (see notes)") | Z17: =IF(Q17+R17=O17+P17,"OK","MISMATCH")
A18: 472 | B18: عیدگاه / Eidgah | C18: 172 | D18: 175 | E18: ملااسحق | F18: ملا اسحق | G18: Molla Es'haq | H18: Molla | K18: × | L18: × | O18: 3 | P18: 3 | Q18: 2 | R18: 4 | S18: 4 | T18: 3 | U18: 1 | V18: 0 | W18: 14 | X18: =O18+P18+S18+T18+U18+V18 | Y18: =IF(W18=X18,"OK","MISMATCH (see notes)") | Z18: =IF(Q18+R18=O18+P18,"OK","MISMATCH")
A19: 528 | B19: عیدگاه / Eidgah | C19: 174 | D19: 177 | E19: آقا یوسف | F19: آقا یوسف | G19: Agha Yusef | H19: Agha | K19: × | L19: × | O19: 1 | P19: 5 | Q19: 2 | R19: 4 | S19: 1 | T19: 0 | U19: 1 | V19: 1 | W19: 9 | X19: =O19+P19+S19+T19+U19+V19 | Y19: =IF(W19=X19,"OK","MISMATCH (see notes)") | Z19: =IF(Q19+R19=O19+P19,"OK","MISMATCH")
A20: 529 | B20: عیدگاه / Eidgah | C20: 174 | D20: 177 | E20: مهدی | F20: مهدی | G20: Mahdi | K20: × | L20: × | O20: 3 | P20: 4 | Q20: 2 | R20: 5 | S20: 3 | T20: 1 | U20: 0 | V20: 0 | W20: 11 | X20: =O20+P20+S20+T20+U20+V20 | Y20: =IF(W20=X20,"OK","MISMATCH (see notes)") | Z20: =IF(Q20+R20=O20+P20,"OK","MISMATCH")
A21: 532 | B21: عیدگاه / Eidgah | C21: 174 | D21: 177 | E21: یعقوب | F21: یعقوب | G21: Ya'qub | K21: × | L21: × | O21: 3 | P21: 4 | Q21: 2 | R21: 5 | S21: 3 | T21: 2 | U21: 1 | V21: 0 | W21: 13 | X21: =O21+P21+S21+T21+U21+V21 | Y21: =IF(W21=X21,"OK","MISMATCH (see notes)") | Z21: =IF(Q21+R21=O21+P21,"OK","MISMATCH")
A22: 535 | B22: عیدگاه / Eidgah | C22: 174 | D22: 177 | E22: ملا ابراهیم | F22: ملا ابراهیم | G22: Molla Ebrahim | H22: Molla | K22: × | L22: × | O22: 2 | P22: 2 | Q22: 1 | R22: 3 | S22: 1 | T22: 3 | U22: 0 | V22: 1 | W22: 9 | X22: =O22+P22+S22+T22+U22+V22 | Y22: =IF(W22=X22,"OK","MISMATCH (see notes)") | Z22: =IF(Q22+R22=O22+P22,"OK","MISMATCH")
A23: 536 | B23: عیدگاه / Eidgah | C23: 174 | D23: 177 | E23: ملا یوسف | F23: ملا یوسف | G23: Molla Yusef | H23: Molla | K23: × | L23: × | O23: 4 | P23: 2 | Q23: 2 | R23: 4 | S23: 2 | T23: 3 | U23: 0 | V23: 0 | W23: 11 | X23: =O23+P23+S23+T23+U23+V23 | Y23: =IF(W23=X23,"OK","MISMATCH (see notes)") | Z23: =IF(Q23+R23=O23+P23,"OK","MISMATCH")
A24: 613 | B24: عیدگاه / Eidgah | C24: 176 | D24: 179 | E24: ملا ابراهیم | F24: ملا ابراهیم | G24: Molla Ebrahim | H24: Molla | K24: × | L24: × | O24: 1 | P24: 3 | Q24: 2 | R24: 2 | S24: 1 | T24: 3 | U24: 0 | V24: 1 | W24: 9 | X24: =O24+P24+S24+T24+U24+V24 | Y24: =IF(W24=X24,"OK","MISMATCH (see notes)") | Z24: =IF(Q24+R24=O24+P24,"OK","MISMATCH")
A25: 614 | B25: عیدگاه / Eidgah | C25: 176 | D25: 179 | E25: ملا تقی | F25: ملا تقی | G25: Molla Taqi | H25: Molla | K25: × | L25: × | O25: 2 | P25: 2 | Q25: 1 | R25: 3 | S25: 4 | T25: 4 | U25: 0 | V25: 0 | W25: 12 | X25: =O25+P25+S25+T25+U25+V25 | Y25: =IF(W25=X25,"OK","MISMATCH (see notes)") | Z25: =IF(Q25+R25=O25+P25,"OK","MISMATCH")
A26: 615 | B26: عیدگاه / Eidgah | C26: 176 | D26: 179 | E26: ملا مهدی | F26: ملا مهدی | G26: Molla Mahdi | H26: Molla | K26: × | L26: × | O26: 8 | P26: 7 | Q26: 5 | R26: 10 | S26: 0 | T26: 0 | U26: 2 | V26: 0 | W26: 17 | X26: =O26+P26+S26+T26+U26+V26 | Y26: =IF(W26=X26,"OK","MISMATCH (see notes)") | Z26: =IF(Q26+R26=O26+P26,"OK","MISMATCH")
A27: 616 | B27: عیدگاه / Eidgah | C27: 176 | D27: 179 | E27: ابراهیم | F27: ابراهیم | G27: Ebrahim | K27: × | L27: × | O27: 1 | P27: 1 | Q27: 0 | R27: 2 | S27: 0 | T27: 1 | U27: 0 | V27: 0 | W27: 3 | X27: =O27+P27+S27+T27+U27+V27 | Y27: =IF(W27=X27,"OK","MISMATCH (see notes)") | Z27: =IF(Q27+R27=O27+P27,"OK","MISMATCH")
A28: 617 | B28: عیدگاه / Eidgah | C28: 176 | D28: 179 | E28: مراد | F28: مراد | G28: Morad | K28: × | O28: 2 | P28: 2 | Q28: 1 | R28: 3 | S28: 1 | T28: 3 | U28: 2 | V28: 0 | W28: 10 | X28: =O28+P28+S28+T28+U28+V28 | Y28: =IF(W28=X28,"OK","MISMATCH (see notes)") | Z28: =IF(Q28+R28=O28+P28,"OK","MISMATCH")
A29: 618 | B29: عیدگاه / Eidgah | C29: 176 | D29: 179 | E29: ملا ابراهیم | F29: ملا ابراهیم | G29: Molla Ebrahim | H29: Molla | I29: سرایدار | J29: Caretaker / doorkeeper | K29: × | O29: 1 | P29: 1 | Q29: 1 | R29: 1 | S29: 0 | T29: 0 | U29: 0 | V29: 0 | W29: 2 | X29: =O29+P29+S29+T29+U29+V29 | Y29: =IF(W29=X29,"OK","MISMATCH (see notes)") | Z29: =IF(Q29+R29=O29+P29,"OK","MISMATCH")
A30: 619 | B30: عیدگاه / Eidgah | C30: 176 | D30: 179 | E30: ملا عبدالرحیم | F30: ملا عبدالرحیم | G30: Molla Abd-ol-Rahim | H30: Molla | I30: دلاک جدیدها | J30: Bath attendant / scrubber (dallak), of the Jadids | K30: × | O30: 1 | P30: 2 | Q30: 1 | R30: 2 | S30: 1 | T30: 2 | U30: 0 | V30: 0 | W30: 6 | X30: =O30+P30+S30+T30+U30+V30 | Y30: =IF(W30=X30,"OK","MISMATCH (see notes)") | Z30: =IF(Q30+R30=O30+P30,"OK","MISMATCH")
A31: 620 | B31: عیدگاه / Eidgah | C31: 176 | D31: 179 | E31: شیخ یعقوب | F31: شیخ یعقوب | G31: Sheikh Ya'qub | H31: Sheikh | K31: × | L31: × | O31: 2 | P31: 2 | Q31: 1 | R31: 3 | S31: 0 | T31: 1 | U31: 0 | V31: 1 | W31: 6 | X31: =O31+P31+S31+T31+U31+V31 | Y31: =IF(W31=X31,"OK","MISMATCH (see notes)") | Z31: =IF(Q31+R31=O31+P31,"OK","MISMATCH")
A32: 621 | B32: عیدگاه / Eidgah | C32: 176 | D32: 179 | E32: ملا یوسف | F32: ملا یوسف | G32: Molla Yusef | H32: Molla | K32: × | L32: × | O32: 4 | P32: 4 | Q32: 2 | R32: 6 | S32: 2 | T32: 3 | U32: 1 | V32: 0 | W32: 14 | X32: =O32+P32+S32+T32+U32+V32 | Y32: =IF(W32=X32,"OK","MISMATCH (see notes)") | Z32: =IF(Q32+R32=O32+P32,"OK","MISMATCH")
A33: 623 | B33: عیدگاه / Eidgah | C33: 176 | D33: 179 | E33: ملا ابراهیم | F33: ملا ابراهیم | G33: Molla Ebrahim | H33: Molla | L33: × | M33: کدخدا | N33: Headman (kadkhoda) | O33: 6 | P33: 5 | Q33: 4 | R33: 7 | S33: 1 | T33: 6 | U33: 2 | V33: 0 | W33: 20 | X33: =O33+P33+S33+T33+U33+V33 | Y33: =IF(W33=X33,"OK","MISMATCH (see notes)") | Z33: =IF(Q33+R33=O33+P33,"OK","MISMATCH")
A34: 624 | B34: عیدگاه / Eidgah | C34: 176 | D34: 179 | E34: ملا سلیمان | F34: ملا سلیمان | G34: Molla Soleyman | H34: Molla | K34: × | L34: × | O34: 3 | P34: 3 | Q34: 2 | R34: 4 | S34: 1 | T34: 1 | U34: 0 | V34: 0 | W34: 8 | X34: =O34+P34+S34+T34+U34+V34 | Y34: =IF(W34=X34,"OK","MISMATCH (see notes)") | Z34: =IF(Q34+R34=O34+P34,"OK","MISMATCH")
A35: 625 | B35: عیدگاه / Eidgah | C35: 176 | D35: 179 | E35: ملا امین | F35: ملا امین | G35: Molla Amin | H35: Molla | K35: × | O35: 2 | P35: 3 | Q35: 1 | R35: 4 | S35: 4 | T35: 1 | U35: 0 | V35: 0 | W35: 10 | X35: =O35+P35+S35+T35+U35+V35 | Y35: =IF(W35=X35,"OK","MISMATCH (see notes)") | Z35: =IF(Q35+R35=O35+P35,"OK","MISMATCH")
A36: 626 | B36: عیدگاه / Eidgah | C36: 176 | D36: 179 | E36: مراد | F36: مراد | G36: Morad | K36: × | L36: × | O36: 2 | P36: 3 | Q36: 1 | R36: 4 | S36: 1 | T36: 0 | U36: 1 | V36: 0 | W36: 7 | X36: =O36+P36+S36+T36+U36+V36 | Y36: =IF(W36=X36,"OK","MISMATCH (see notes)") | Z36: =IF(Q36+R36=O36+P36,"OK","MISMATCH")
A37: 628 | B37: عیدگاه / Eidgah | C37: 176 | D37: 179 | E37: آقاجان | F37: آقاجان | G37: Aghajan | K37: × | L37: × | O37: 2 | P37: 3 | Q37: 1 | R37: 4 | S37: 3 | T37: 3 | U37: 0 | V37: 0 | W37: 11 | X37: =O37+P37+S37+T37+U37+V37 | Y37: =IF(W37=X37,"OK","MISMATCH (see notes)") | Z37: =IF(Q37+R37=O37+P37,"OK","MISMATCH")
A38: 629 | B38: عیدگاه / Eidgah | C38: 176 | D38: 179 | E38: میرزا موسی | F38: میرزا موسی | G38: Mirza Musa | H38: Mirza | K38: × | L38: × | O38: 1 | P38: 4 | Q38: 2 | R38: 3 | S38: 3 | T38: 1 | U38: 0 | V38: 0 | W38: 9 | X38: =O38+P38+S38+T38+U38+V38 | Y38: =IF(W38=X38,"OK","MISMATCH (see notes)") | Z38: =IF(Q38+R38=O38+P38,"OK","MISMATCH")
A39: 630 | B39: عیدگاه / Eidgah | C39: 176 | D39: 179 | E39: رمضان | F39: رمضان | G39: Ramazan | K39: × | O39: 1 | P39: 2 | Q39: 1 | R39: 2 | S39: 0 | T39: 3 | U39: 1 | V39: 0 | W39: 7 | X39: =O39+P39+S39+T39+U39+V39 | Y39: =IF(W39=X39,"OK","MISMATCH (see notes)") | Z39: =IF(Q39+R39=O39+P39,"OK","MISMATCH")
A40: 631 | B40: عیدگاه / Eidgah | C40: 177 | D40: 180 | E40: شاه ویردی | F40: شاه ویردی | G40: Shah Verdi | I40: دلال | J40: Broker | K40: × | L40: × | O40: 1 | P40: 4 | Q40: 2 | R40: 3 | S40: 1 | T40: 0 | U40: 0 | V40: 0 | W40: 6 | X40: =O40+P40+S40+T40+U40+V40 | Y40: =IF(W40=X40,"OK","MISMATCH (see notes)") | Z40: =IF(Q40+R40=O40+P40,"OK","MISMATCH")
...

Sheet Unlabeled neighbors
A1: ردیف | B1: محله | C1: صفحه چاپی | D1: صفحه PDF | E1: نام چاپ‌شده | F1: نام استاندارد | G1: نام انگلیسی | H1: لقب | I1: پیشه | J1: Occupation (EN) | K1: رعایا | L1: اغنیاء | M1: نوکران دولت و آستانه | N1: State role (EN) | O1: مردان | P1: زنان | Q1: پیران | R1: جوانان | S1: پسران | T1: دختران | U1: شیرخوار پسر | V1: شیرخوار دختر | W1: جمع جمعیت (چاپی) | X1: جمع محاسبه‌شده | Y1: بررسی ۱ | Z1: بررسی ۲ | AA1: یادداشت | AB1: These rows sit beside Jadid rows but are NOT labeled جدید in the register. Listed only for reference; excluded from totals.
A2: Radif (row no.) | B2: Quarter | C2: Printed page | D2: PDF page | E2: Name as printed | F2: Name, standard spacing | G2: Name (English) | H2: Title | I2: Occupation | J2: Occupation (EN) | K2: Commoner | L2: Wealthy | M2: State/shrine role | N2: State role (EN) | O2: Men | P2: Women | Q2: Elderly | R2: Young adults | S2: Boys | T2: Girls | U2: Infant boys | V2: Infant girls | W2: Total as printed | X2: Total recomputed | Y2: Check 1: parts = total | Z2: Check 2: elderly+young = men+women | AA2: Notes
A3: 450 | B3: عیدگاه / Eidgah | C3: 171 | D3: 174 | E3: خانه مقبره | F3: خانه مقبره | G3: House of the tomb (khaneh-maqbara) | M3: خادم | N3: Shrine attendant | O3: 1 | P3: 3 | Q3: 2 | R3: 2 | S3: 3 | T3: 1 | U3: 0 | V3: 0 | W3: 8 | X3: =O3+P3+S3+T3+U3+V3 | Y3: =IF(W3=X3,"OK","MISMATCH (see notes)") | Z3: =IF(Q3+R3=O3+P3,"OK","MISMATCH")
A4: 622 | B4: عیدگاه / Eidgah | C4: 176 | D4: 179 | E4: خانهٔ وقف | F4: خانهٔ وقف | G4: Endowment house (vaqf) | K4: × | O4: 4 | P4: 8 | Q4: 3 | R4: 9 | S4: 6 | T4: 7 | U4: 0 | V4: 2 | W4: 27 | X4: =O4+P4+S4+T4+U4+V4 | Y4: =IF(W4=X4,"OK","MISMATCH (see notes)") | Z4: =IF(Q4+R4=O4+P4,"OK","MISMATCH")
A5: 627 | B5: عیدگاه / Eidgah | C5: 176 | D5: 179 | E5: محمدباقر ارباب | F5: محمدباقر ارباب | G5: Mohammad-Baqer Arbab | I5: تاجر | J5: Merchant | K5: × | L5: × | O5: 2 | P5: 1 | Q5: 1 | R5: 2 | S5: 0 | T5: 1 | U5: 0 | V5: 0 | W5: 4 | X5: =O5+P5+S5+T5+U5+V5 | Y5: =IF(W5=X5,"OK","MISMATCH (see notes)") | Z5: =IF(Q5+R5=O5+P5,"OK","MISMATCH")
A6: 633 | B6: عیدگاه / Eidgah | C6: 177 | D6: 180 | E6: آقا نوروز | F6: آقا نوروز | G6: Agha Nowruz | K6: × | O6: 2 | P6: 3 | Q6: 1 | R6: 4 | S6: 1 | T6: 2 | U6: 0 | V6: 0 | W6: 8 | X6: =O6+P6+S6+T6+U6+V6 | Y6: =IF(W6=X6,"OK","MISMATCH (see notes)") | Z6: =IF(Q6+R6=O6+P6,"OK","MISMATCH")
A7: 639 | B7: عیدگاه / Eidgah | C7: 177 | D7: 180 | E7: کربلایی علی اکبر | F7: کربلایی علی اکبر | G7: Karbala'i Ali-Akbar | K7: × | O7: 1 | P7: 1 | Q7: 0 | R7: 2 | S7: 1 | T7: 3 | U7: 0 | V7: 0 | W7: 6 | X7: =O7+P7+S7+T7+U7+V7 | Y7: =IF(W7=X7,"OK","MISMATCH (see notes)") | Z7: =IF(Q7+R7=O7+P7,"OK","MISMATCH")
A8: 655 | B8: عیدگاه / Eidgah | C8: 177 | D8: 180 | E8: احمد | F8: احمد | G8: Ahmad | I8: زارع | J8: Farmer | K8: × | O8: 1 | P8: 1 | Q8: 0 | R8: 2 | S8: 1 | T8: 3 | U8: 0 | V8: 0 | W8: 6 | X8: =O8+P8+S8+T8+U8+V8 | Y8: =IF(W8=X8,"OK","MISMATCH (see notes)") | Z8: =IF(Q8+R8=O8+P8,"OK","MISMATCH")
A9: 656 | B9: عیدگاه / Eidgah | C9: 177 | D9: 180 | E9: حسن | F9: حسن | G9: Hasan | I9: زارع | J9: Farmer | K9: × | O9: 3 | P9: 2 | Q9: 1 | R9: 4 | S9: 1 | T9: 0 | U9: 0 | V9: 1 | W9: 7 | X9: =O9+P9+S9+T9+U9+V9 | Y9: =IF(W9=X9,"OK","MISMATCH (see notes)") | Z9: =IF(Q9+R9=O9+P9,"OK","MISMATCH")
A10: 931 | B10: عیدگاه / Eidgah | C10: 185 | D10: 188 | E10: حاجی محمدجعفر | F10: حاجی محمدجعفر | G10: Haji Mohammad-Ja'far | I10: شعرباف | J10: Sha'rbaf (weaver) | K10: × | O10: 3 | P10: 3 | Q10: 2 | R10: 4 | S10: 1 | T10: 0 | U10: 0 | V10: 0 | W10: 7 | X10: =O10+P10+S10+T10+U10+V10 | Y10: =IF(W10=X10,"OK","MISMATCH (see notes)") | Z10: =IF(Q10+R10=O10+P10,"OK","MISMATCH")
A11: 1183 | B11: عیدگاه / Eidgah | C11: 192 | D11: 195 | E11: حسن | F11: حسن | G11: Hasan | K11: × | O11: 1 | P11: 1 | Q11: 1 | R11: 1 | S11: 1 | T11: 0 | U11: 0 | V11: 0 | W11: 3 | X11: =O11+P11+S11+T11+U11+V11 | Y11: =IF(W11=X11,"OK","MISMATCH (see notes)") | Z11: =IF(Q11+R11=O11+P11,"OK","MISMATCH")
A12: 1185 | B12: عیدگاه / Eidgah | C12: 192 | D12: 195 | E12: حاجی عبدالحسین | F12: حاجی عبدالحسین | G12: Haji Abd-ol-Hosein | I12: رزاز | J12: Rice seller | K12: × | O12: 2 | P12: 2 | Q12: 1 | R12: 3 | S12: 0 | T12: 0 | U12: 1 | V12: 0 | W12: 5 | X12: =O12+P12+S12+T12+U12+V12 | Y12: =IF(W12=X12,"OK","MISMATCH (see notes)") | Z12: =IF(Q12+R12=O12+P12,"OK","MISMATCH")
A13: 1186 | B13: عیدگاه / Eidgah | C13: 192 | D13: 195 | E13: کربلایی قربان | F13: کربلایی قربان | G13: Karbala'i Qorban | I13: چرخ‌تاب | J13: Thread twister | K13: × | O13: 2 | P13: 2 | Q13: 1 | R13: 3 | S13: 1 | T13: 2 | U13: 0 | V13: 0 | W13: 7 | X13: =O13+P13+S13+T13+U13+V13 | Y13: =IF(W13=X13,"OK","MISMATCH (see notes)") | Z13: =IF(Q13+R13=O13+P13,"OK","MISMATCH")

Sheet Summary
A1: Summary of the Mashadi Jadid households of 1878 (1295 AH census of Mashad)
A3: Households labeled Jadid / خانوار | B3: =COUNTA('Jadid households'!A3:A116)
A4: Eidgah / عیدگاه | B4: =COUNTIF('Jadid households'!B3:B116,"*Eidgah*")
A5: Sarshur / سرشور | B5: =COUNTIF('Jadid households'!B3:B116,"*Sarshur*")
A6: Bala-Khiyaban / بالاخیابان | B6: =COUNTIF('Jadid households'!B3:B116,"*Bala*")
A7: Wealthy (×) / اغنیاء | B7: =COUNTIF('Jadid households'!L3:L116,"×")
A8: Commoner (×) / رعایا | B8: =COUNTIF('Jadid households'!K3:K116,"×")
A9: Men / مردان | B9: =SUM('Jadid households'!O3:O116)
A10: Women / زنان | B10: =SUM('Jadid households'!P3:P116)
A11: Elderly / پیران | B11: =SUM('Jadid households'!Q3:Q116)
A12: Young adults / جوانان | B12: =SUM('Jadid households'!R3:R116)
A13: Boys / پسران | B13: =SUM('Jadid households'!S3:S116)
A14: Girls / دختران | B14: =SUM('Jadid households'!T3:T116)
A15: Infant boys | B15: =SUM('Jadid households'!U3:U116)
A16: Infant girls | B16: =SUM('Jadid households'!V3:V116)
A17: Total people, as printed | B17: =SUM('Jadid households'!W3:W116)
A18: Total people, recomputed from parts | B18: =SUM('Jadid households'!X3:X116)
A19: Rows where printed total differs from parts | B19: =COUNTIF('Jadid households'!Y3:Y116,"MISMATCH*")
A20: Rows where elderly+young differs from men+women | B20: =COUNTIF('Jadid households'!Z3:Z116,"MISMATCH")

Sheet Occupations
A1: پیشه | B1: Occupation (EN) | C1: Households
A2: تاجر | B2: Merchant | C2: =COUNTIF('Jadid households'!I3:I116,A2)
A3: دلال | B3: Broker | C3: =COUNTIF('Jadid households'!I3:I116,A3)
A4: سوداگر | B4: Trader | C4: =COUNTIF('Jadid households'!I3:I116,A4)
A5: شعرباف | B5: Sha'rbaf (weaver) | C5: =COUNTIF('Jadid households'!I3:I116,A5)
A6: سرایدار | B6: Caretaker / doorkeeper | C6: =COUNTIF('Jadid households'!I3:I116,A6)
A7: دلاک جدیدها | B7: Bath attendant / scrubber (dallak), of the Jadids | C7: =COUNTIF('Jadid households'!I3:I116,A7)
A8: عطار | B8: Perfumer / apothecary | C8: =COUNTIF('Jadid households'!I3:I116,A8)
A9: حکمی | B9: Hakimi (unresolved: occupation or family name) | C9: =COUNTIF('Jadid households'!I3:I116,A9)
A10: (none printed) | C10: =COUNTBLANK('Jadid households'!I3:I116)

Sheet Exceptions for reader
A1: Radif | B1: Issue | C1: What was done
A2: 456 | B2: Printed row total is 13 but the parts add to 12. | C2: Reader confirmed all cells as printed. Typo in the printed edition (original manuscript not consulted, so it may be the clerk's or the 2003 typesetting). The page-footer total only works with 12. Kept 13 as printed, flagged.
A3: 1261 | B3: Printed row total is 3 but the parts add to 2. | C3: Reader confirmed as printed. Typo in the printed edition (original manuscript not consulted, so it may be the clerk's or the 2003 typesetting). Page-footer total only works with 2. Kept 3 as printed, flagged.
A4: 1184 | B4: Men cell is smudged on the scan. | C4: RESOLVED: Persian reader confirms 3 (Oct 26 2026). Name Molla Morad confirmed.
A5: 1181 | B5: Name printed ملا آقای (Aghay). | C5: RESOLVED: Persian reader reads it as Molla Aghaye.
A6: 935 | B6: Occupation printed حکمی (hakimi), not حکیم. The editor's own table prints it as حکمی with a question mark. | C6: UNRESOLVED. Persian reader: hakim would likely mean doctor, but for hakimi she is not sure; it could be an occupation or a family name. Kept as printed in the occupation column.
A7: 619 | B7: Occupation cell reads دلاک جدیدها (dallak = public-bath attendant who scrubs bathers, not دلال broker). | C7: RESOLVED: reader confirms the wording. Translation: bath attendant of the Jadids.
A8: 934 | B8: Name printed حجی (not حاجی). | C8: RESOLVED: reader reads it as Haji. Kept spelling as printed.
A9: 928, 930, 938, 654, 659 | B9: Faint wealthy marks. | C9: RESOLVED: reader confirms each is a mark. Names 928/930 Molla Esma'il, 1188 Ebrahim confirmed.
A10: 638 | B10: Elderly cell is blank (1,1,blank,2,1,3). A helper read it as 1; zoom confirms blank. | C10: Kept blank (0).
A11: 633 (reader confirmed) | B11: آقا نوروز sits among Jadid rows but has no جدید label. | C11: Excluded. Listed on the Unlabeled neighbors sheet.
A12: 623, 647 | B12: Commoner cell blank; they carry a role (کدخدا headman, نوکر آستانه shrine servant). | C12: Recorded as printed.

Sheet Method
A1: Source: Nofus-e Arz-e Aqdas ya Mardom-e Mashhad-e Qadim (the 1295 AH / 1878 census of Mashad), by Zeyn al-Abedin Mirza Qajar, edited and annotated (tashih va tozih) by Mehdi Seyyedi. Mashhad: Sazman-e Farhangi-ye Shahrdari-ye Mashhad (owner of the work); Sherkat-e Ta'avoni-ye Ketab-e Moshaver-e Khorasan; first printing spring 1382 SH (2003); 1,000 copies; ISBN 964-5914-19-1. The tables are the editor's typeset edition; the original manuscript was not consulted.
A2: Jadid = the word جدید printed after the household head name. 114 households: 111 Eidgah, 2 Sarshur, 1 Bala-Khiyaban.
A3: The 114 radif numbers match the list printed in the editor's own text on PDF page 56 exactly.
A4: Every row was read from the page image, then checked two ways: (1) men+women+boys+girls+infants = total; (2) elderly+young = men+women. Two printed totals fail (456, 1261) and the page-footer column sums show the printed total is the odd one out in both cases, so these are typos in the printed edition.
A5: Independent check: three separate readers re-read all 114 rows from the PDF without seeing these values. All 114 names, status marks and every number agree, after zoom review of the one disagreement (638).
A6: Name spellings follow the print exactly, including missing spaces and the joined forms like ملابراهیم. The standard-spacing column is only a convenience.
A7: The register also has columns for lodgers (مجاورین) and disabled (ناقصین). All 114 Jadid rows are blank in both, so they are not repeated here.
A8: The register also has a column for poor households (فقرا). It is not reproduced in this dataset. One of the 114 households carries that mark.
A9: English names are transliterations, not source text. Printed page = PDF page minus 3.
A10: Where this table differs from the editor's own summary (introduction, printed page 53, PDF page 56): the editor gives 54 wealthy households and the rest middle or unknown; this table counts 80 wealthy and 112 commoner marks from the rows. The editor gives Molla 44, Karbala'i 10, Agha 6, Haji 4; the rows give Molla 56, Karbala'i 9, Agha 5, Haji 6. His trade table has 114 households with 5 brokers, 4 traders, 7 merchants, 1 perfumer, 2 weavers, 1 shrine servant, 1 hokmi(?), 93 unspecified. We report what the rows say and do not know how the editor counted.
