Workbook

Sheet Jadid households
A1: ردیف | B1: محله | C1: صفحه چاپی | D1: صفحه PDF | E1: نام چاپ‌شده | F1: نام استاندارد | G1: نام انگلیسی | H1: لقب | I1: پیشه | J1: Occupation (EN) | K1: رعایا | L1: اغنیاء | M1: نوکران دولت و آستانه | N1: State role (EN) | O1: مردان | P1: زنان | Q1: پیران | R1: جوانان | S1: پسران | T1: دختران | U1: شیرخوار پسر | V1: شیرخوار دختر | W1: جمع جمعیت (چاپی) | X1: جمع محاسبه‌شده | Y1: بررسی ۱ | Z1: بررسی ۲ | AA1: یادداشت
A2: Radif (row no.) | B2: Quarter | C2: Printed page | D2: PDF page | E2: Name as printed | F2: Name, standard spacing | G2: Name (English) | H2: Title | I2: Occupation | J2: Occupation (EN) | K2: Commoner | L2: Wealthy | M2: State/shrine role | N2: State role (EN) | O2: Men | P2: Women | Q2: Elderly | R2: Young adults | S2: Boys | T2: Girls | U2: Infant boys | V2: Infant girls | W2: Total as printed | X2: Total recomputed | Y2: Check 1: parts = total | Z2: Check 2: elderly+young = men+women | AA2: Notes
A3: 447 | B3: عیدگاه / Eidgah | C3: 171 | D3: 174 | E3: ملاسمعیل | F3: ملا اسمعیل | G3: Molla Esma'il | H3: Molla | I3: دلال | J3: Broker | K3: × | L3: × | O3: 2 | P3: 4 | Q3: 2 | R3: 4 | S3: 2 | T3: 4 | U3: 1 | V3: 0 | W3: 13 | X3: =O3+P3+S3+T3+U3+V3 | Y3: =IF(W3=X3,"OK","MISMATCH (see notes)") | Z3: =IF(Q3+R3=O3+P3,"OK","MISMATCH")
A4: 448 | B4: عیدگاه / Eidgah | C4: 171 | D4: 174 | E4: ملا رحمن | F4: ملا رحمن | G4: Molla Rahman | H4: Molla | I4: دلال | J4: Broker | K4: × | L4: × | O4: 2 | P4: 2 | Q4: 1 | R4: 3 | S4: 1 | T4: 2 | U4: 0 | V4: 0 | W4: 7 | X4: =O4+P4+S4+T4+U4+V4 | Y4: =IF(W4=X4,"OK","MISMATCH (see notes)") | Z4: =IF(Q4+R4=O4+P4,"OK","MISMATCH")
A5: 449 | B5: عیدگاه / Eidgah | C5: 171 | D5: 174 | E5: ملا اسمعیل | F5: ملا اسمعیل | G5: Molla Esma'il | H5: Molla | K5: × | L5: × | O5: 2 | P5: 3 | Q5: 2 | R5: 3 | S5: 1 | T5: 2 | U5: 0 | V5: 1 | W5: 9 | X5: =O5+P5+S5+T5+U5+V5 | Y5: =IF(W5=X5,"OK","MISMATCH (see notes)") | Z5: =IF(Q5+R5=O5+P5,"OK","MISMATCH")
A6: 451 | B6: عیدگاه / Eidgah | C6: 171 | D6: 174 | E6: ملا اسمعیل | F6: ملا اسمعیل | G6: Molla Esma'il | H6: Molla | K6: × | L6: × | O6: 1 | P6: 2 | Q6: 1 | R6: 2 | S6: 1 | T6: 3 | U6: 0 | V6: 0 | W6: 7 | X6: =O6+P6+S6+T6+U6+V6 | Y6: =IF(W6=X6,"OK","MISMATCH (see notes)") | Z6: =IF(Q6+R6=O6+P6,"OK","MISMATCH")
A7: 452 | B7: عیدگاه / Eidgah | C7: 171 | D7: 174 | E7: کربلایی‌اسمعیل | F7: کربلایی اسمعیل | G7: Karbala'i Esma'il | H7: Karbala'i | K7: × | L7: × | O7: 1 | P7: 2 | Q7: 1 | R7: 2 | S7: 1 | T7: 1 | U7: 1 | V7: 0 | W7: 6 | X7: =O7+P7+S7+T7+U7+V7 | Y7: =IF(W7=X7,"OK","MISMATCH (see notes)") | Z7: =IF(Q7+R7=O7+P7,"OK","MISMATCH")
A8: 453 | B8: عیدگاه / Eidgah | C8: 171 | D8: 174 | E8: شوقی | F8: شوقی | G8: Shoqi | K8: × | O8: 1 | P8: 2 | Q8: 1 | R8: 2 | S8: 3 | T8: 0 | U8: 0 | V8: 0 | W8: 6 | X8: =O8+P8+S8+T8+U8+V8 | Y8: =IF(W8=X8,"OK","MISMATCH (see notes)") | Z8: =IF(Q8+R8=O8+P8,"OK","MISMATCH")
A9: 454 | B9: عیدگاه / Eidgah | C9: 171 | D9: 174 | E9: ملابراهیم | F9: ملا ابراهیم | G9: Molla Ebrahim | H9: Molla | K9: × | L9: × | O9: 3 | P9: 2 | Q9: 2 | R9: 3 | S9: 1 | T9: 1 | U9: 0 | V9: 1 | W9: 8 | X9: =O9+P9+S9+T9+U9+V9 | Y9: =IF(W9=X9,"OK","MISMATCH (see notes)") | Z9: =IF(Q9+R9=O9+P9,"OK","MISMATCH")
A10: 455 | B10: عیدگاه / Eidgah | C10: 171 | D10: 174 | E10: ملا تقی | F10: ملا تقی | G10: Molla Taqi | H10: Molla | K10: × | O10: 1 | P10: 2 | Q10: 1 | R10: 2 | S10: 1 | T10: 2 | U10: 0 | V10: 0 | W10: 6 | X10: =O10+P10+S10+T10+U10+V10 | Y10: =IF(W10=X10,"OK","MISMATCH (see notes)") | Z10: =IF(Q10+R10=O10+P10,"OK","MISMATCH")
A11: 456 | B11: عیدگاه / Eidgah | C11: 172 | D11: 175 | E11: ملاموسی | F11: ملا موسی | G11: Molla Musa | H11: Molla | K11: × | L11: × | O11: 3 | P11: 2 | Q11: 2 | R11: 3 | S11: 5 | T11: 2 | U11: 0 | V11: 0 | W11: 13 | X11: =O11+P11+S11+T11+U11+V11 | Y11: =IF(W11=X11,"OK","MISMATCH (see notes)") | Z11: =IF(Q11+R11=O11+P11,"OK","MISMATCH") | AA11: Typo in the printed edition: printed row total is 13 but the parts add to 12; the page footer total (265) only works with 12. Row-total cell kept as printed.
A12: 462 | B12: عیدگاه / Eidgah | C12: 172 | D12: 175 | E12: ملا ابراهیم | F12: ملا ابراهیم | G12: Molla Ebrahim | H12: Molla | K12: × | L12: × | O12: 3 | P12: 4 | Q12: 2 | R12: 5 | S12: 1 | T12: 1 | U12: 0 | V12: 0 | W12: 9 | X12: =O12+P12+S12+T12+U12+V12 | Y12: =IF(W12=X12,"OK","MISMATCH (see notes)") | Z12: =IF(Q12+R12=O12+P12,"OK","MISMATCH")
A13: 465 | B13: عیدگاه / Eidgah | C13: 172 | D13: 175 | E13: یعقوب | F13: یعقوب | G13: Ya'qub | K13: × | L13: × | O13: 2 | P13: 5 | Q13: 3 | R13: 4 | S13: 1 | T13: 1 | U13: 0 | V13: 0 | W13: 9 | X13: =O13+P13+S13+T13+U13+V13 | Y13: =IF(W13=X13,"OK","MISMATCH (see notes)") | Z13: =IF(Q13+R13=O13+P13,"OK","MISMATCH")
A14: 466 | B14: عیدگاه / Eidgah | C14: 172 | D14: 175 | E14: ملابراهیم | F14: ملا ابراهیم | G14: Molla Ebrahim | H14: Molla | K14: × | L14: × | O14: 1 | P14: 4 | Q14: 2 | R14: 3 | S14: 3 | T14: 2 | U14: 0 | V14: 0 | W14: 10 | X14: =O14+P14+S14+T14+U14+V14 | Y14: =IF(W14=X14,"OK","MISMATCH (see notes)") | Z14: =IF(Q14+R14=O14+P14,"OK","MISMATCH")
A15: 467 | B15: عیدگاه / Eidgah | C15: 172 | D15: 175 | E15: ملابراهیم | F15: ملا ابراهیم | G15: Molla Ebrahim | H15: Molla | K15: × | L15: × | O15: 1 | P15: 2 | Q15: 2 | R15: 1 | S15: 0 | T15: 2 | U15: 1 | V15: 0 | W15: 6 | X15: =O15+P15+S15+T15+U15+V15 | Y15: =IF(W15=X15,"OK","MISMATCH (see notes)") | Z15: =IF(Q15+R15=O15+P15,"OK","MISMATCH")
A16: 470 | B16: عیدگاه / Eidgah | C16: 172 | D16: 175 | E16: ملا مهدی | F16: ملا مهدی | G16: Molla Mahdi | H16: Molla | K16: × | L16: × | O16: 3 | P16: 3 | Q16: 2 | R16: 4 | S16: 2 | T16: 0 | U16: 0 | V16: 1 | W16: 9 | X16: =O16+P16+S16+T16+U16+V16 | Y16: =IF(W16=X16,"OK","MISMATCH (see notes)") | Z16: =IF(Q16+R16=O16+P16,"OK","MISMATCH")
A17: 471 | B17: عیدگاه / Eidgah | C17: 172 | D17: 175 | E17: ملابراهیم | F17: ملا ابراهیم | G17: Molla Ebrahim | H17: Molla | K17: × | O17: 1 | P17: 2 | Q17: 1 | R17: 2 | S17: 0 | T17: 1 | U17: 0 | V17: 0 | W17: 4 | X17: =O17+P17+S17+T17+U17+V17 | Y17: =IF(W17=X17,"OK","MISMATCH (see notes)") | Z17: =IF(Q17+R17=O17+P17,"OK","MISMATCH")
A18: 472 | B18: عیدگاه / Eidgah | C18: 172 | D18: 175 | E18: ملااسحق | F18: ملا اسحق | G18: Molla Es'haq | H18: Molla | K18: × | L18: × | O18: 3 | P18: 3 | Q18: 2 | R18: 4 | S18: 4 | T18: 3 | U18: 1 | V18: 0 | W18: 14 | X18: =O18+P18+S18+T18+U18+V18 | Y18: =IF(W18=X18,"OK","MISMATCH (see notes)") | Z18: =IF(Q18+R18=O18+P18,"OK","MISMATCH")
A19: 528 | B19: عیدگاه / Eidgah | C19: 174 | D19: 177 | E19: آقا یوسف | F19: آقا یوسف | G19: Agha Yusef | H19: Agha | K19: × | L19: × | O19: 1 | P19: 5 | Q19: 2 | R19: 4 | S19: 1 | T19: 0 | U19: 1 | V19: 1 | W19: 9 | X19: =O19+P19+S19+T19+U19+V19 | Y19: =IF(W19=X19,"OK","MISMATCH (see notes)") | Z19: =IF(Q19+R19=O19+P19,"OK","MISMATCH")
A20: 529 | B20: عیدگاه / Eidgah | C20: 174 | D20: 177 | E20: مهدی | F20: مهدی | G20: Mahdi | K20: × | L20: × | O20: 3 | P20: 4 | Q20: 2 | R20: 5 | S20: 3 | T20: 1 | U20: 0 | V20: 0 | W20: 11 | X20: =O20+P20+S20+T20+U20+V20 | Y20: =IF(W20=X20,"OK","MISMATCH (see notes)") | Z20: =IF(Q20+R20=O20+P20,"OK","MISMATCH")
A21: 532 | B21: عیدگاه / Eidgah | C21: 174 | D21: 177 | E21: یعقوب | F21: یعقوب | G21: Ya'qub | K21: × | L21: × | O21: 3 | P21: 4 | Q21: 2 | R21: 5 | S21: 3 | T21: 2 | U21: 1 | V21: 0 | W21: 13 | X21: =O21+P21+S21+T21+U21+V21 | Y21: =IF(W21=X21,"OK","MISMATCH (see notes)") | Z21: =IF(Q21+R21=O21+P21,"OK","MISMATCH")
A22: 535 | B22: عیدگاه / Eidgah | C22: 174 | D22: 177 | E22: ملا ابراهیم | F22: ملا ابراهیم | G22: Molla Ebrahim | H22: Molla | K22: × | L22: × | O22: 2 | P22: 2 | Q22: 1 | R22: 3 | S22: 1 | T22: 3 | U22: 0 | V22: 1 | W22: 9 | X22: =O22+P22+S22+T22+U22+V22 | Y22: =IF(W22=X22,"OK","MISMATCH (see notes)") | Z22: =IF(Q22+R22=O22+P22,"OK","MISMATCH")
A23: 536 | B23: عیدگاه / Eidgah | C23: 174 | D23: 177 | E23: ملا یوسف | F23: ملا یوسف | G23: Molla Yusef | H23: Molla | K23: × | L23: × | O23: 4 | P23: 2 | Q23: 2 | R23: 4 | S23: 2 | T23: 3 | U23: 0 | V23: 0 | W23: 11 | X23: =O23+P23+S23+T23+U23+V23 | Y23: =IF(W23=X23,"OK","MISMATCH (see notes)") | Z23: =IF(Q23+R23=O23+P23,"OK","MISMATCH")
A24: 613 | B24: عیدگاه / Eidgah | C24: 176 | D24: 179 | E24: ملا ابراهیم | F24: ملا ابراهیم | G24: Molla Ebrahim | H24: Molla | K24: × | L24: × | O24: 1 | P24: 3 | Q24: 2 | R24: 2 | S24: 1 | T24: 3 | U24: 0 | V24: 1 | W24: 9 | X24: =O24+P24+S24+T24+U24+V24 | Y24: =IF(W24=X24,"OK","MISMATCH (see notes)") | Z24: =IF(Q24+R24=O24+P24,"OK","MISMATCH")
A25: 614 | B25: عیدگاه / Eidgah | C25: 176 | D25: 179 | E25: ملا تقی | F25: ملا تقی | G25: Molla Taqi | H25: Molla | K25: × | L25: × | O25: 2 | P25: 2 | Q25: 1 | R25: 3 | S25: 4 | T25: 4 | U25: 0 | V25: 0 | W25: 12 | X25: =O25+P25+S25+T25+U25+V25 | Y25: =IF(W25=X25,"OK","MISMATCH (see notes)") | Z25: =IF(Q25+R25=O25+P25,"OK","MISMATCH")
A26: 615 | B26: عیدگاه / Eidgah | C26: 176 | D26: 179 | E26: ملا مهدی | F26: ملا مهدی | G26: Molla Mahdi | H26: Molla | K26: × | L26: × | O26: 8 | P26: 7 | Q26: 5 | R26: 10 | S26: 0 | T26: 0 | U26: 2 | V26: 0 | W26: 17 | X26: =O26+P26+S26+T26+U26+V26 | Y26: =IF(W26=X26,"OK","MISMATCH (see notes)") | Z26: =IF(Q26+R26=O26+P26,"OK","MISMATCH")
A27: 616 | B27: عیدگاه / Eidgah | C27: 176 | D27: 179 | E27: ابراهیم | F27: ابراهیم | G27: Ebrahim | K27: × | L27: × | O27: 1 | P27: 1 | Q27: 0 | R27: 2 | S27: 0 | T27: 1 | U27: 0 | V27: 0 | W27: 3 | X27: =O27+P27+S27+T27+U27+V27 | Y27: =IF(W27=X27,"OK","MISMATCH (see notes)") | Z27: =IF(Q27+R27=O27+P27,"OK","MISMATCH")
A28: 617 | B28: عیدگاه / Eidgah | C28: 176 | D28: 179 | E28: مراد | F28: مراد | G28: Morad | K28: × | O28: 2 | P28: 2 | Q28: 1 | R28: 3 | S28: 1 | T28: 3 | U28: 2 | V28: 0 | W28: 10 | X28: =O28+P28+S28+T28+U28+V28 | Y28: =IF(W28=X28,"OK","MISMATCH (see notes)") | Z28: =IF(Q28+R28=O28+P28,"OK","MISMATCH")
A29: 618 | B29: عیدگاه / Eidgah | C29: 176 | D29: 179 | E29: ملا ابراهیم | F29: ملا ابراهیم | G29: Molla Ebrahim | H29: Molla | I29: سرایدار | J29: Caretaker / doorkeeper | K29: × | O29: 1 | P29: 1 | Q29: 1 | R29: 1 | S29: 0 | T29: 0 | U29: 0 | V29: 0 | W29: 2 | X29: =O29+P29+S29+T29+U29+V29 | Y29: =IF(W29=X29,"OK","MISMATCH (see notes)") | Z29: =IF(Q29+R29=O29+P29,"OK","MISMATCH")
A30: 619 | B30: عیدگاه / Eidgah | C30: 176 | D30: 179 | E30: ملا عبدالرحیم | F30: ملا عبدالرحیم | G30: Molla Abd-ol-Rahim | H30: Molla | I30: دلاک جدیدها | J30: Bath attendant / scrubber (dallak), of the Jadids | K30: × | O30: 1 | P30: 2 | Q30: 1 | R30: 2 | S30: 1 | T30: 2 | U30: 0 | V30: 0 | W30: 6 | X30: =O30+P30+S30+T30+U30+V30 | Y30: =IF(W30=X30,"OK","MISMATCH (see notes)") | Z30: =IF(Q30+R30=O30+P30,"OK","MISMATCH")
A31: 620 | B31: عیدگاه / Eidgah | C31: 176 | D31: 179 | E31: شیخ یعقوب | F31: شیخ یعقوب | G31: Sheikh Ya'qub | H31: Sheikh | K31: × | L31: × | O31: 2 | P31: 2 | Q31: 1 | R31: 3 | S31: 0 | T31: 1 | U31: 0 | V31: 1 | W31: 6 | X31: =O31+P31+S31+T31+U31+V31 | Y31: =IF(W31=X31,"OK","MISMATCH (see notes)") | Z31: =IF(Q31+R31=O31+P31,"OK","MISMATCH")
A32: 621 | B32: عیدگاه / Eidgah | C32: 176 | D32: 179 | E32: ملا یوسف | F32: ملا یوسف | G32: Molla Yusef | H32: Molla | K32: × | L32: × | O32: 4 | P32: 4 | Q32: 2 | R32: 6 | S32: 2 | T32: 3 | U32: 1 | V32: 0 | W32: 14 | X32: =O32+P32+S32+T32+U32+V32 | Y32: =IF(W32=X32,"OK","MISMATCH (see notes)") | Z32: =IF(Q32+R32=O32+P32,"OK","MISMATCH")
A33: 623 | B33: عیدگاه / Eidgah | C33: 176 | D33: 179 | E33: ملا ابراهیم | F33: ملا ابراهیم | G33: Molla Ebrahim | H33: Molla | L33: × | M33: کدخدا | N33: Headman (kadkhoda) | O33: 6 | P33: 5 | Q33: 4 | R33: 7 | S33: 1 | T33: 6 | U33: 2 | V33: 0 | W33: 20 | X33: =O33+P33+S33+T33+U33+V33 | Y33: =IF(W33=X33,"OK","MISMATCH (see notes)") | Z33: =IF(Q33+R33=O33+P33,"OK","MISMATCH")
A34: 624 | B34: عیدگاه / Eidgah | C34: 176 | D34: 179 | E34: ملا سلیمان | F34: ملا سلیمان | G34: Molla Soleyman | H34: Molla | K34: × | L34: × | O34: 3 | P34: 3 | Q34: 2 | R34: 4 | S34: 1 | T34: 1 | U34: 0 | V34: 0 | W34: 8 | X34: =O34+P34+S34+T34+U34+V34 | Y34: =IF(W34=X34,"OK","MISMATCH (see notes)") | Z34: =IF(Q34+R34=O34+P34,"OK","MISMATCH")
A35: 625 | B35: عیدگاه / Eidgah | C35: 176 | D35: 179 | E35: ملا امین | F35: ملا امین | G35: Molla Amin | H35: Molla | K35: × | O35: 2 | P35: 3 | Q35: 1 | R35: 4 | S35: 4 | T35: 1 | U35: 0 | V35: 0 | W35: 10 | X35: =O35+P35+S35+T35+U35+V35 | Y35: =IF(W35=X35,"OK","MISMATCH (see notes)") | Z35: =IF(Q35+R35=O35+P35,"OK","MISMATCH")
A36: 626 | B36: عیدگاه / Eidgah | C36: 176 | D36: 179 | E36: مراد | F36: مراد | G36: Morad | K36: × | L36: × | O36: 2 | P36: 3 | Q36: 1 | R36: 4 | S36: 1 | T36: 0 | U36: 1 | V36: 0 | W36: 7 | X36: =O36+P36+S36+T36+U36+V36 | Y36: =IF(W36=X36,"OK","MISMATCH (see notes)") | Z36: =IF(Q36+R36=O36+P36,"OK","MISMATCH")
A37: 628 | B37: عیدگاه / Eidgah | C37: 176 | D37: 179 | E37: آقاجان | F37: آقاجان | G37: Aghajan | K37: × | L37: × | O37: 2 | P37: 3 | Q37: 1 | R37: 4 | S37: 3 | T37: 3 | U37: 0 | V37: 0 | W37: 11 | X37: =O37+P37+S37+T37+U37+V37 | Y37: =IF(W37=X37,"OK","MISMATCH (see notes)") | Z37: =IF(Q37+R37=O37+P37,"OK","MISMATCH")
A38: 629 | B38: عیدگاه / Eidgah | C38: 176 | D38: 179 | E38: میرزا موسی | F38: میرزا موسی | G38: Mirza Musa | H38: Mirza | K38: × | L38: × | O38: 1 | P38: 4 | Q38: 2 | R38: 3 | S38: 3 | T38: 1 | U38: 0 | V38: 0 | W38: 9 | X38: =O38+P38+S38+T38+U38+V38 | Y38: =IF(W38=X38,"OK","MISMATCH (see notes)") | Z38: =IF(Q38+R38=O38+P38,"OK","MISMATCH")
A39: 630 | B39: عیدگاه / Eidgah | C39: 176 | D39: 179 | E39: رمضان | F39: رمضان | G39: Ramazan | K39: × | O39: 1 | P39: 2 | Q39: 1 | R39: 2 | S39: 0 | T39: 3 | U39: 1 | V39: 0 | W39: 7 | X39: =O39+P39+S39+T39+U39+V39 | Y39: =IF(W39=X39,"OK","MISMATCH (see notes)") | Z39: =IF(Q39+R39=O39+P39,"OK","MISMATCH")
A40: 631 | B40: عیدگاه / Eidgah | C40: 177 | D40: 180 | E40: شاه ویردی | F40: شاه ویردی | G40: Shah Verdi | I40: دلال | J40: Broker | K40: × | L40: × | O40: 1 | P40: 4 | Q40: 2 | R40: 3 | S40: 1 | T40: 0 | U40: 0 | V40: 0 | W40: 6 | X40: =O40+P40+S40+T40+U40+V40 | Y40: =IF(W40=X40,"OK","MISMATCH (see notes)") | Z40: =IF(Q40+R40=O40+P40,"OK","MISMATCH")
A41: 632 | B41: عیدگاه / Eidgah | C41: 177 | D41: 180 | E41: علی | F41: علی | G41: Ali | K41: × | L41: × | O41: 2 | P41: 3 | Q41: 1 | R41: 4 | S41: 0 | T41: 2 | U41: 1 | V41: 0 | W41: 8 | X41: =O41+P41+S41+T41+U41+V41 | Y41: =IF(W41=X41,"OK","MISMATCH (see notes)") | Z41: =IF(Q41+R41=O41+P41,"OK","MISMATCH")
A42: 634 | B42: عیدگاه / Eidgah | C42: 177 | D42: 180 | E42: ملا خداداد | F42: ملا خداداد | G42: Molla Khodadad | H42: Molla | I42: سوداگر | J42: Trader | K42: × | L42: × | O42: 5 | P42: 5 | Q42: 3 | R42: 7 | S42: 2 | T42: 1 | U42: 0 | V42: 0 | W42: 13 | X42: =O42+P42+S42+T42+U42+V42 | Y42: =IF(W42=X42,"OK","MISMATCH (see notes)") | Z42: =IF(Q42+R42=O42+P42,"OK","MISMATCH")
A43: 635 | B43: عیدگاه / Eidgah | C43: 177 | D43: 180 | E43: حاجی ابراهیم | F43: حاجی ابراهیم | G43: Haji Ebrahim | H43: Haji | I43: تاجر | J43: Merchant | K43: × | L43: × | O43: 1 | P43: 2 | Q43: 1 | R43: 2 | S43: 1 | T43: 2 | U43: 0 | V43: 1 | W43: 7 | X43: =O43+P43+S43+T43+U43+V43 | Y43: =IF(W43=X43,"OK","MISMATCH (see notes)") | Z43: =IF(Q43+R43=O43+P43,"OK","MISMATCH")
A44: 636 | B44: عیدگاه / Eidgah | C44: 177 | D44: 180 | E44: ابراهیم | F44: ابراهیم | G44: Ebrahim | K44: × | L44: × | O44: 2 | P44: 2 | Q44: 1 | R44: 3 | S44: 1 | T44: 0 | U44: 0 | V44: 1 | W44: 6 | X44: =O44+P44+S44+T44+U44+V44 | Y44: =IF(W44=X44,"OK","MISMATCH (see notes)") | Z44: =IF(Q44+R44=O44+P44,"OK","MISMATCH")
A45: 637 | B45: عیدگاه / Eidgah | C45: 177 | D45: 180 | E45: حاجی عبدالرحمن | F45: حاجی عبدالرحمن | G45: Haji Abd-ol-Rahman | H45: Haji | I45: تاجر | J45: Merchant | K45: × | L45: × | O45: 1 | P45: 2 | Q45: 1 | R45: 2 | S45: 4 | T45: 3 | U45: 0 | V45: 1 | W45: 11 | X45: =O45+P45+S45+T45+U45+V45 | Y45: =IF(W45=X45,"OK","MISMATCH (see notes)") | Z45: =IF(Q45+R45=O45+P45,"OK","MISMATCH")
A46: 638 | B46: عیدگاه / Eidgah | C46: 177 | D46: 180 | E46: ملا نعمت | F46: ملا نعمت | G46: Molla Ne'mat | H46: Molla | K46: × | L46: × | O46: 1 | P46: 1 | Q46: 0 | R46: 2 | S46: 1 | T46: 3 | U46: 0 | V46: 0 | W46: 6 | X46: =O46+P46+S46+T46+U46+V46 | Y46: =IF(W46=X46,"OK","MISMATCH (see notes)") | Z46: =IF(Q46+R46=O46+P46,"OK","MISMATCH")
A47: 640 | B47: عیدگاه / Eidgah | C47: 177 | D47: 180 | E47: ملا داوود | F47: ملا داوود | G47: Molla Davud | H47: Molla | I47: سوداگر | J47: Trader | K47: × | L47: × | O47: 2 | P47: 3 | Q47: 1 | R47: 4 | S47: 4 | T47: 3 | U47: 0 | V47: 0 | W47: 12 | X47: =O47+P47+S47+T47+U47+V47 | Y47: =IF(W47=X47,"OK","MISMATCH (see notes)") | Z47: =IF(Q47+R47=O47+P47,"OK","MISMATCH")
A48: 641 | B48: عیدگاه / Eidgah | C48: 177 | D48: 180 | E48: کربلایی اسمعیل | F48: کربلایی اسمعیل | G48: Karbala'i Esma'il | H48: Karbala'i | K48: × | O48: 4 | P48: 5 | Q48: 3 | R48: 6 | S48: 4 | T48: 0 | U48: 1 | V48: 0 | W48: 14 | X48: =O48+P48+S48+T48+U48+V48 | Y48: =IF(W48=X48,"OK","MISMATCH (see notes)") | Z48: =IF(Q48+R48=O48+P48,"OK","MISMATCH")
A49: 642 | B49: عیدگاه / Eidgah | C49: 177 | D49: 180 | E49: ملا موسی | F49: ملا موسی | G49: Molla Musa | H49: Molla | K49: × | L49: × | O49: 5 | P49: 4 | Q49: 3 | R49: 6 | S49: 8 | T49: 6 | U49: 1 | V49: 0 | W49: 24 | X49: =O49+P49+S49+T49+U49+V49 | Y49: =IF(W49=X49,"OK","MISMATCH (see notes)") | Z49: =IF(Q49+R49=O49+P49,"OK","MISMATCH")
A50: 643 | B50: عیدگاه / Eidgah | C50: 177 | D50: 180 | E50: ملا یعقوب | F50: ملا یعقوب | G50: Molla Ya'qub | H50: Molla | I50: دلال | J50: Broker | K50: × | L50: × | O50: 3 | P50: 4 | Q50: 2 | R50: 5 | S50: 2 | T50: 3 | U50: 0 | V50: 0 | W50: 12 | X50: =O50+P50+S50+T50+U50+V50 | Y50: =IF(W50=X50,"OK","MISMATCH (see notes)") | Z50: =IF(Q50+R50=O50+P50,"OK","MISMATCH")
A51: 644 | B51: عیدگاه / Eidgah | C51: 177 | D51: 180 | E51: هادی | F51: هادی | G51: Hadi | K51: × | O51: 3 | P51: 3 | Q51: 2 | R51: 4 | S51: 4 | T51: 6 | U51: 1 | V51: 0 | W51: 17 | X51: =O51+P51+S51+T51+U51+V51 | Y51: =IF(W51=X51,"OK","MISMATCH (see notes)") | Z51: =IF(Q51+R51=O51+P51,"OK","MISMATCH")
A52: 645 | B52: عیدگاه / Eidgah | C52: 177 | D52: 180 | E52: ملا یوسف | F52: ملا یوسف | G52: Molla Yusef | H52: Molla | K52: × | L52: × | O52: 2 | P52: 2 | Q52: 1 | R52: 3 | S52: 3 | T52: 2 | U52: 0 | V52: 1 | W52: 10 | X52: =O52+P52+S52+T52+U52+V52 | Y52: =IF(W52=X52,"OK","MISMATCH (see notes)") | Z52: =IF(Q52+R52=O52+P52,"OK","MISMATCH")
A53: 646 | B53: عیدگاه / Eidgah | C53: 177 | D53: 180 | E53: ایوب | F53: ایوب | G53: Ayyub | I53: سوداگر | J53: Trader | K53: × | L53: × | O53: 2 | P53: 4 | Q53: 1 | R53: 5 | S53: 1 | T53: 1 | U53: 0 | V53: 0 | W53: 8 | X53: =O53+P53+S53+T53+U53+V53 | Y53: =IF(W53=X53,"OK","MISMATCH (see notes)") | Z53: =IF(Q53+R53=O53+P53,"OK","MISMATCH")
A54: 647 | B54: عیدگاه / Eidgah | C54: 177 | D54: 180 | E54: حاجی نظر علی | F54: حاجی نظرعلی | G54: Haji Nazar-Ali | H54: Haji | L54: × | M54: نوکر آستانه | N54: Shrine servant | O54: 2 | P54: 2 | Q54: 1 | R54: 3 | S54: 1 | T54: 1 | U54: 0 | V54: 0 | W54: 6 | X54: =O54+P54+S54+T54+U54+V54 | Y54: =IF(W54=X54,"OK","MISMATCH (see notes)") | Z54: =IF(Q54+R54=O54+P54,"OK","MISMATCH")
A55: 648 | B55: عیدگاه / Eidgah | C55: 177 | D55: 180 | E55: الیاس | F55: الیاس | G55: Elyas | K55: × | L55: × | O55: 2 | P55: 3 | Q55: 1 | R55: 4 | S55: 1 | T55: 1 | U55: 1 | V55: 0 | W55: 8 | X55: =O55+P55+S55+T55+U55+V55 | Y55: =IF(W55=X55,"OK","MISMATCH (see notes)") | Z55: =IF(Q55+R55=O55+P55,"OK","MISMATCH")
A56: 649 | B56: عیدگاه / Eidgah | C56: 177 | D56: 180 | E56: حاجی آقا | F56: حاجی آقا | G56: Haji Agha | H56: Haji | I56: تاجر | J56: Merchant | K56: × | L56: × | O56: 2 | P56: 3 | Q56: 1 | R56: 4 | S56: 0 | T56: 2 | U56: 0 | V56: 0 | W56: 7 | X56: =O56+P56+S56+T56+U56+V56 | Y56: =IF(W56=X56,"OK","MISMATCH (see notes)") | Z56: =IF(Q56+R56=O56+P56,"OK","MISMATCH")
A57: 650 | B57: عیدگاه / Eidgah | C57: 177 | D57: 180 | E57: اسمعیل | F57: اسمعیل | G57: Esma'il | I57: تاجر | J57: Merchant | K57: × | L57: × | O57: 3 | P57: 3 | Q57: 2 | R57: 4 | S57: 0 | T57: 1 | U57: 0 | V57: 1 | W57: 8 | X57: =O57+P57+S57+T57+U57+V57 | Y57: =IF(W57=X57,"OK","MISMATCH (see notes)") | Z57: =IF(Q57+R57=O57+P57,"OK","MISMATCH")
A58: 651 | B58: عیدگاه / Eidgah | C58: 177 | D58: 180 | E58: ملا علی شاه | F58: ملا علی‌شاه | G58: Molla Ali-Shah | H58: Molla | K58: × | L58: × | O58: 4 | P58: 2 | Q58: 1 | R58: 5 | S58: 1 | T58: 2 | U58: 0 | V58: 0 | W58: 9 | X58: =O58+P58+S58+T58+U58+V58 | Y58: =IF(W58=X58,"OK","MISMATCH (see notes)") | Z58: =IF(Q58+R58=O58+P58,"OK","MISMATCH")
A59: 652 | B59: عیدگاه / Eidgah | C59: 177 | D59: 180 | E59: اسمعیل | F59: اسمعیل | G59: Esma'il | I59: سوداگر | J59: Trader | K59: × | L59: × | O59: 2 | P59: 4 | Q59: 3 | R59: 3 | S59: 2 | T59: 1 | U59: 0 | V59: 0 | W59: 9 | X59: =O59+P59+S59+T59+U59+V59 | Y59: =IF(W59=X59,"OK","MISMATCH (see notes)") | Z59: =IF(Q59+R59=O59+P59,"OK","MISMATCH")
A60: 653 | B60: عیدگاه / Eidgah | C60: 177 | D60: 180 | E60: عبدالصمد | F60: عبدالصمد | G60: Abd-os-Samad | K60: × | O60: 3 | P60: 4 | Q60: 2 | R60: 5 | S60: 0 | T60: 1 | U60: 1 | V60: 0 | W60: 9 | X60: =O60+P60+S60+T60+U60+V60 | Y60: =IF(W60=X60,"OK","MISMATCH (see notes)") | Z60: =IF(Q60+R60=O60+P60,"OK","MISMATCH")
A61: 654 | B61: عیدگاه / Eidgah | C61: 177 | D61: 180 | E61: ملا داوود | F61: ملا داوود | G61: Molla Davud | H61: Molla | K61: × | L61: × | O61: 2 | P61: 3 | Q61: 1 | R61: 4 | S61: 1 | T61: 6 | U61: 0 | V61: 0 | W61: 12 | X61: =O61+P61+S61+T61+U61+V61 | Y61: =IF(W61=X61,"OK","MISMATCH (see notes)") | Z61: =IF(Q61+R61=O61+P61,"OK","MISMATCH")
A62: 657 | B62: عیدگاه / Eidgah | C62: 177 | D62: 180 | E62: ملا اسمعیل | F62: ملا اسمعیل | G62: Molla Esma'il | H62: Molla | K62: × | L62: × | O62: 2 | P62: 2 | Q62: 1 | R62: 3 | S62: 2 | T62: 3 | U62: 0 | V62: 2 | W62: 11 | X62: =O62+P62+S62+T62+U62+V62 | Y62: =IF(W62=X62,"OK","MISMATCH (see notes)") | Z62: =IF(Q62+R62=O62+P62,"OK","MISMATCH")
A63: 658 | B63: عیدگاه / Eidgah | C63: 177 | D63: 180 | E63: ملا رضا | F63: ملا رضا | G63: Molla Reza | H63: Molla | I63: سوداگر | J63: Trader | K63: × | L63: × | O63: 4 | P63: 4 | Q63: 3 | R63: 5 | S63: 1 | T63: 5 | U63: 0 | V63: 1 | W63: 15 | X63: =O63+P63+S63+T63+U63+V63 | Y63: =IF(W63=X63,"OK","MISMATCH (see notes)") | Z63: =IF(Q63+R63=O63+P63,"OK","MISMATCH")
A64: 659 | B64: عیدگاه / Eidgah | C64: 177 | D64: 180 | E64: آقا محمد | F64: آقا محمد | G64: Agha Mohammad | H64: Agha | I64: تاجر | J64: Merchant | K64: × | L64: × | O64: 4 | P64: 7 | Q64: 3 | R64: 8 | S64: 2 | T64: 7 | U64: 1 | V64: 0 | W64: 21 | X64: =O64+P64+S64+T64+U64+V64 | Y64: =IF(W64=X64,"OK","MISMATCH (see notes)") | Z64: =IF(Q64+R64=O64+P64,"OK","MISMATCH")
A65: 660 | B65: عیدگاه / Eidgah | C65: 177 | D65: 180 | E65: ملا اسمعیل | F65: ملا اسمعیل | G65: Molla Esma'il | H65: Molla | I65: تاجر | J65: Merchant | K65: × | L65: × | O65: 5 | P65: 8 | Q65: 4 | R65: 9 | S65: 2 | T65: 2 | U65: 0 | V65: 0 | W65: 17 | X65: =O65+P65+S65+T65+U65+V65 | Y65: =IF(W65=X65,"OK","MISMATCH (see notes)") | Z65: =IF(Q65+R65=O65+P65,"OK","MISMATCH")
A66: 661 | B66: عیدگاه / Eidgah | C66: 177 | D66: 180 | E66: آقاجان | F66: آقاجان | G66: Aghajan | I66: سوداگر | J66: Trader | K66: × | L66: × | O66: 1 | P66: 4 | Q66: 2 | R66: 3 | S66: 2 | T66: 3 | U66: 0 | V66: 0 | W66: 10 | X66: =O66+P66+S66+T66+U66+V66 | Y66: =IF(W66=X66,"OK","MISMATCH (see notes)") | Z66: =IF(Q66+R66=O66+P66,"OK","MISMATCH")
A67: 662 | B67: عیدگاه / Eidgah | C67: 177 | D67: 180 | E67: ملا ذبیح‌الله | F67: ملا ذبیح‌الله | G67: Molla Zabihollah | H67: Molla | K67: × | L67: × | O67: 2 | P67: 2 | Q67: 1 | R67: 3 | S67: 2 | T67: 3 | U67: 0 | V67: 0 | W67: 9 | X67: =O67+P67+S67+T67+U67+V67 | Y67: =IF(W67=X67,"OK","MISMATCH (see notes)") | Z67: =IF(Q67+R67=O67+P67,"OK","MISMATCH")
A68: 663 | B68: عیدگاه / Eidgah | C68: 177 | D68: 180 | E68: حسن | F68: حسن | G68: Hasan | I68: دلال | J68: Broker | K68: × | O68: 1 | P68: 0 | Q68: 0 | R68: 1 | S68: 1 | T68: 0 | U68: 0 | V68: 0 | W68: 2 | X68: =O68+P68+S68+T68+U68+V68 | Y68: =IF(W68=X68,"OK","MISMATCH (see notes)") | Z68: =IF(Q68+R68=O68+P68,"OK","MISMATCH")
A69: 664 | B69: عیدگاه / Eidgah | C69: 177 | D69: 180 | E69: آقا محمد | F69: آقا محمد | G69: Agha Mohammad | H69: Agha | I69: تاجر | J69: Merchant | K69: × | L69: × | O69: 1 | P69: 4 | Q69: 2 | R69: 3 | S69: 1 | T69: 1 | U69: 1 | V69: 0 | W69: 8 | X69: =O69+P69+S69+T69+U69+V69 | Y69: =IF(W69=X69,"OK","MISMATCH (see notes)") | Z69: =IF(Q69+R69=O69+P69,"OK","MISMATCH")
A70: 665 | B70: عیدگاه / Eidgah | C70: 177 | D70: 180 | E70: ملا آقا جان | F70: ملا آقاجان | G70: Molla Aghajan | H70: Molla | K70: × | O70: 2 | P70: 3 | Q70: 1 | R70: 4 | S70: 2 | T70: 1 | U70: 0 | V70: 0 | W70: 8 | X70: =O70+P70+S70+T70+U70+V70 | Y70: =IF(W70=X70,"OK","MISMATCH (see notes)") | Z70: =IF(Q70+R70=O70+P70,"OK","MISMATCH")
A71: 666 | B71: عیدگاه / Eidgah | C71: 178 | D71: 181 | E71: ملا آقاجان | F71: ملا آقاجان | G71: Molla Aghajan | H71: Molla | K71: × | L71: × | O71: 2 | P71: 3 | Q71: 1 | R71: 4 | S71: 2 | T71: 1 | U71: 0 | V71: 0 | W71: 8 | X71: =O71+P71+S71+T71+U71+V71 | Y71: =IF(W71=X71,"OK","MISMATCH (see notes)") | Z71: =IF(Q71+R71=O71+P71,"OK","MISMATCH")
A72: 667 | B72: عیدگاه / Eidgah | C72: 178 | D72: 181 | E72: آقا صادق | F72: آقا صادق | G72: Agha Sadeq | H72: Agha | K72: × | L72: × | O72: 1 | P72: 4 | Q72: 2 | R72: 3 | S72: 1 | T72: 2 | U72: 1 | V72: 0 | W72: 9 | X72: =O72+P72+S72+T72+U72+V72 | Y72: =IF(W72=X72,"OK","MISMATCH (see notes)") | Z72: =IF(Q72+R72=O72+P72,"OK","MISMATCH")
A73: 668 | B73: عیدگاه / Eidgah | C73: 178 | D73: 181 | E73: کربلایی محمدرفیع | F73: کربلایی محمدرفیع | G73: Karbala'i Mohammad-Rafi' | H73: Karbala'i | K73: × | L73: × | O73: 3 | P73: 4 | Q73: 2 | R73: 5 | S73: 2 | T73: 0 | U73: 2 | V73: 0 | W73: 11 | X73: =O73+P73+S73+T73+U73+V73 | Y73: =IF(W73=X73,"OK","MISMATCH (see notes)") | Z73: =IF(Q73+R73=O73+P73,"OK","MISMATCH")
A74: 669 | B74: عیدگاه / Eidgah | C74: 178 | D74: 181 | E74: کربلایی محمدحسن | F74: کربلایی محمدحسن | G74: Karbala'i Mohammad-Hasan | H74: Karbala'i | K74: × | L74: × | O74: 2 | P74: 2 | Q74: 1 | R74: 3 | S74: 4 | T74: 0 | U74: 0 | V74: 0 | W74: 8 | X74: =O74+P74+S74+T74+U74+V74 | Y74: =IF(W74=X74,"OK","MISMATCH (see notes)") | Z74: =IF(Q74+R74=O74+P74,"OK","MISMATCH")
A75: 683 | B75: عیدگاه / Eidgah | C75: 178 | D75: 181 | E75: رحمن | F75: رحمن | G75: Rahman | I75: عطار | J75: Perfumer / apothecary | K75: × | O75: 3 | P75: 2 | Q75: 2 | R75: 3 | S75: 0 | T75: 2 | U75: 0 | V75: 0 | W75: 7 | X75: =O75+P75+S75+T75+U75+V75 | Y75: =IF(W75=X75,"OK","MISMATCH (see notes)") | Z75: =IF(Q75+R75=O75+P75,"OK","MISMATCH")
A76: 684 | B76: عیدگاه / Eidgah | C76: 178 | D76: 181 | E76: محمدعلی | F76: محمدعلی | G76: Mohammad-Ali | K76: × | O76: 1 | P76: 1 | Q76: 2 | R76: 0 | S76: 1 | T76: 2 | U76: 0 | V76: 0 | W76: 5 | X76: =O76+P76+S76+T76+U76+V76 | Y76: =IF(W76=X76,"OK","MISMATCH (see notes)") | Z76: =IF(Q76+R76=O76+P76,"OK","MISMATCH")
A77: 685 | B77: عیدگاه / Eidgah | C77: 178 | D77: 181 | E77: داوود | F77: داوود | G77: Davud | K77: × | L77: × | O77: 1 | P77: 2 | Q77: 1 | R77: 2 | S77: 1 | T77: 0 | U77: 0 | V77: 1 | W77: 5 | X77: =O77+P77+S77+T77+U77+V77 | Y77: =IF(W77=X77,"OK","MISMATCH (see notes)") | Z77: =IF(Q77+R77=O77+P77,"OK","MISMATCH")
A78: 692 | B78: عیدگاه / Eidgah | C78: 178 | D78: 181 | E78: کربلایی عبدالرحمن | F78: کربلایی عبدالرحمن | G78: Karbala'i Abd-ol-Rahman | H78: Karbala'i | K78: × | L78: × | O78: 2 | P78: 3 | Q78: 1 | R78: 4 | S78: 1 | T78: 0 | U78: 0 | V78: 1 | W78: 7 | X78: =O78+P78+S78+T78+U78+V78 | Y78: =IF(W78=X78,"OK","MISMATCH (see notes)") | Z78: =IF(Q78+R78=O78+P78,"OK","MISMATCH")
A79: 725 | B79: عیدگاه / Eidgah | C79: 179 | D79: 182 | E79: یعقوب | F79: یعقوب | G79: Ya'qub | K79: × | L79: × | O79: 1 | P79: 3 | Q79: 2 | R79: 2 | S79: 0 | T79: 1 | U79: 0 | V79: 0 | W79: 5 | X79: =O79+P79+S79+T79+U79+V79 | Y79: =IF(W79=X79,"OK","MISMATCH (see notes)") | Z79: =IF(Q79+R79=O79+P79,"OK","MISMATCH")
A80: 747 | B80: عیدگاه / Eidgah | C80: 180 | D80: 183 | E80: حاجی حیدر | F80: حاجی حیدر | G80: Haji Heydar | H80: Haji | K80: × | O80: 9 | P80: 11 | Q80: 5 | R80: 15 | S80: 1 | T80: 2 | U80: 0 | V80: 0 | W80: 23 | X80: =O80+P80+S80+T80+U80+V80 | Y80: =IF(W80=X80,"OK","MISMATCH (see notes)") | Z80: =IF(Q80+R80=O80+P80,"OK","MISMATCH")
A81: 928 | B81: عیدگاه / Eidgah | C81: 185 | D81: 188 | E81: ملا اسمعیل | F81: ملا اسمعیل | G81: Molla Esma'il | H81: Molla | K81: × | L81: × | O81: 2 | P81: 4 | Q81: 2 | R81: 4 | S81: 2 | T81: 0 | U81: 0 | V81: 0 | W81: 8 | X81: =O81+P81+S81+T81+U81+V81 | Y81: =IF(W81=X81,"OK","MISMATCH (see notes)") | Z81: =IF(Q81+R81=O81+P81,"OK","MISMATCH")
A82: 929 | B82: عیدگاه / Eidgah | C82: 185 | D82: 188 | E82: ملا آقاجان | F82: ملا آقاجان | G82: Molla Aghajan | H82: Molla | K82: × | O82: 2 | P82: 2 | Q82: 1 | R82: 3 | S82: 2 | T82: 2 | U82: 0 | V82: 0 | W82: 8 | X82: =O82+P82+S82+T82+U82+V82 | Y82: =IF(W82=X82,"OK","MISMATCH (see notes)") | Z82: =IF(Q82+R82=O82+P82,"OK","MISMATCH")
A83: 930 | B83: عیدگاه / Eidgah | C83: 185 | D83: 188 | E83: ملا اسمعیل | F83: ملا اسمعیل | G83: Molla Esma'il | H83: Molla | K83: × | L83: × | O83: 2 | P83: 3 | Q83: 2 | R83: 3 | S83: 3 | T83: 0 | U83: 0 | V83: 0 | W83: 8 | X83: =O83+P83+S83+T83+U83+V83 | Y83: =IF(W83=X83,"OK","MISMATCH (see notes)") | Z83: =IF(Q83+R83=O83+P83,"OK","MISMATCH")
A84: 932 | B84: عیدگاه / Eidgah | C84: 185 | D84: 188 | E84: محمدحسن | F84: محمدحسن | G84: Mohammad-Hasan | I84: شعرباف | J84: Sha'rbaf (weaver) | K84: × | L84: × | O84: 3 | P84: 3 | Q84: 3 | R84: 3 | S84: 1 | T84: 4 | U84: 0 | V84: 0 | W84: 11 | X84: =O84+P84+S84+T84+U84+V84 | Y84: =IF(W84=X84,"OK","MISMATCH (see notes)") | Z84: =IF(Q84+R84=O84+P84,"OK","MISMATCH")
A85: 933 | B85: عیدگاه / Eidgah | C85: 185 | D85: 188 | E85: کربلایی محمد | F85: کربلایی محمد | G85: Karbala'i Mohammad | H85: Karbala'i | I85: شعرباف | J85: Sha'rbaf (weaver) | K85: × | O85: 4 | P85: 4 | Q85: 2 | R85: 6 | S85: 2 | T85: 2 | U85: 1 | V85: 0 | W85: 13 | X85: =O85+P85+S85+T85+U85+V85 | Y85: =IF(W85=X85,"OK","MISMATCH (see notes)") | Z85: =IF(Q85+R85=O85+P85,"OK","MISMATCH")
A86: 934 | B86: عیدگاه / Eidgah | C86: 185 | D86: 188 | E86: حجی | F86: حجی | G86: Hajji | K86: × | O86: 2 | P86: 3 | Q86: 1 | R86: 4 | S86: 5 | T86: 2 | U86: 2 | V86: 1 | W86: 15 | X86: =O86+P86+S86+T86+U86+V86 | Y86: =IF(W86=X86,"OK","MISMATCH (see notes)") | Z86: =IF(Q86+R86=O86+P86,"OK","MISMATCH")
A87: 935 | B87: عیدگاه / Eidgah | C87: 185 | D87: 188 | E87: ملا اسمعیل | F87: ملا اسمعیل | G87: Molla Esma'il | H87: Molla | I87: حکمی | J87: Hakimi (unresolved: occupation or family name) | K87: × | O87: 3 | P87: 3 | Q87: 2 | R87: 4 | S87: 5 | T87: 2 | U87: 1 | V87: 0 | W87: 14 | X87: =O87+P87+S87+T87+U87+V87 | Y87: =IF(W87=X87,"OK","MISMATCH (see notes)") | Z87: =IF(Q87+R87=O87+P87,"OK","MISMATCH") | AA87: The editor's own table prints this word as حکمی with a question mark. A Persian reader could not tell whether it is a trade or a family name.
A88: 936 | B88: عیدگاه / Eidgah | C88: 185 | D88: 188 | E88: امین | F88: امین | G88: Amin | K88: × | L88: × | O88: 3 | P88: 4 | Q88: 2 | R88: 5 | S88: 2 | T88: 1 | U88: 0 | V88: 0 | W88: 10 | X88: =O88+P88+S88+T88+U88+V88 | Y88: =IF(W88=X88,"OK","MISMATCH (see notes)") | Z88: =IF(Q88+R88=O88+P88,"OK","MISMATCH")
A89: 937 | B89: عیدگاه / Eidgah | C89: 185 | D89: 188 | E89: ملا آقاجان | F89: ملا آقاجان | G89: Molla Aghajan | H89: Molla | K89: × | O89: 2 | P89: 2 | Q89: 1 | R89: 3 | S89: 4 | T89: 1 | U89: 0 | V89: 0 | W89: 9 | X89: =O89+P89+S89+T89+U89+V89 | Y89: =IF(W89=X89,"OK","MISMATCH (see notes)") | Z89: =IF(Q89+R89=O89+P89,"OK","MISMATCH")
A90: 938 | B90: عیدگاه / Eidgah | C90: 185 | D90: 188 | E90: محمدحسین | F90: محمدحسین | G90: Mohammad-Hosein | K90: × | L90: × | O90: 2 | P90: 3 | Q90: 1 | R90: 4 | S90: 3 | T90: 1 | U90: 0 | V90: 0 | W90: 9 | X90: =O90+P90+S90+T90+U90+V90 | Y90: =IF(W90=X90,"OK","MISMATCH (see notes)") | Z90: =IF(Q90+R90=O90+P90,"OK","MISMATCH")
A91: 939 | B91: عیدگاه / Eidgah | C91: 185 | D91: 188 | E91: رجب | F91: رجب | G91: Rajab | K91: × | O91: 1 | P91: 2 | Q91: 1 | R91: 2 | S91: 5 | T91: 1 | U91: 0 | V91: 0 | W91: 9 | X91: =O91+P91+S91+T91+U91+V91 | Y91: =IF(W91=X91,"OK","MISMATCH (see notes)") | Z91: =IF(Q91+R91=O91+P91,"OK","MISMATCH")
A92: 940 | B92: عیدگاه / Eidgah | C92: 185 | D92: 188 | E92: ملا ابراهیم | F92: ملا ابراهیم | G92: Molla Ebrahim | H92: Molla | K92: × | L92: × | O92: 4 | P92: 3 | Q92: 2 | R92: 5 | S92: 4 | T92: 3 | U92: 0 | V92: 0 | W92: 14 | X92: =O92+P92+S92+T92+U92+V92 | Y92: =IF(W92=X92,"OK","MISMATCH (see notes)") | Z92: =IF(Q92+R92=O92+P92,"OK","MISMATCH")
A93: 941 | B93: عیدگاه / Eidgah | C93: 185 | D93: 188 | E93: شعبان | F93: شعبان | G93: Sha'ban | K93: × | O93: 1 | P93: 1 | Q93: 0 | R93: 2 | S93: 1 | T93: 1 | U93: 0 | V93: 0 | W93: 4 | X93: =O93+P93+S93+T93+U93+V93 | Y93: =IF(W93=X93,"OK","MISMATCH (see notes)") | Z93: =IF(Q93+R93=O93+P93,"OK","MISMATCH")
A94: 942 | B94: عیدگاه / Eidgah | C94: 185 | D94: 188 | E94: ملا فیض | F94: ملا فیض | G94: Molla Feyz | H94: Molla | K94: × | O94: 1 | P94: 2 | Q94: 1 | R94: 2 | S94: 1 | T94: 1 | U94: 0 | V94: 0 | W94: 5 | X94: =O94+P94+S94+T94+U94+V94 | Y94: =IF(W94=X94,"OK","MISMATCH (see notes)") | Z94: =IF(Q94+R94=O94+P94,"OK","MISMATCH")
A95: 943 | B95: عیدگاه / Eidgah | C95: 185 | D95: 188 | E95: ملا سلیمان | F95: ملا سلیمان | G95: Molla Soleyman | H95: Molla | K95: × | L95: × | O95: 6 | P95: 6 | Q95: 3 | R95: 9 | S95: 5 | T95: 2 | U95: 1 | V95: 1 | W95: 21 | X95: =O95+P95+S95+T95+U95+V95 | Y95: =IF(W95=X95,"OK","MISMATCH (see notes)") | Z95: =IF(Q95+R95=O95+P95,"OK","MISMATCH")
A96: 944 | B96: عیدگاه / Eidgah | C96: 185 | D96: 188 | E96: حاجی اسحق | F96: حاجی اسحق | G96: Haji Es'haq | H96: Haji | K96: × | L96: × | O96: 2 | P96: 2 | Q96: 1 | R96: 3 | S96: 2 | T96: 1 | U96: 0 | V96: 0 | W96: 7 | X96: =O96+P96+S96+T96+U96+V96 | Y96: =IF(W96=X96,"OK","MISMATCH (see notes)") | Z96: =IF(Q96+R96=O96+P96,"OK","MISMATCH")
A97: 945 | B97: عیدگاه / Eidgah | C97: 185 | D97: 188 | E97: کربلایی محمدعلی | F97: کربلایی محمدعلی | G97: Karbala'i Mohammad-Ali | H97: Karbala'i | K97: × | L97: × | O97: 1 | P97: 2 | Q97: 1 | R97: 2 | S97: 3 | T97: 2 | U97: 0 | V97: 0 | W97: 8 | X97: =O97+P97+S97+T97+U97+V97 | Y97: =IF(W97=X97,"OK","MISMATCH (see notes)") | Z97: =IF(Q97+R97=O97+P97,"OK","MISMATCH")
A98: 946 | B98: عیدگاه / Eidgah | C98: 186 | D98: 189 | E98: محمد مهدی | F98: محمد مهدی | G98: Mohammad-Mahdi | K98: × | L98: × | O98: 4 | P98: 4 | Q98: 6 | R98: 2 | S98: 4 | T98: 2 | U98: 0 | V98: 1 | W98: 15 | X98: =O98+P98+S98+T98+U98+V98 | Y98: =IF(W98=X98,"OK","MISMATCH (see notes)") | Z98: =IF(Q98+R98=O98+P98,"OK","MISMATCH")
A99: 947 | B99: عیدگاه / Eidgah | C99: 186 | D99: 189 | E99: آقا خدابخش | F99: آقا خدابخش | G99: Agha Khodabakhsh | H99: Agha | K99: × | L99: × | O99: 3 | P99: 3 | Q99: 2 | R99: 4 | S99: 4 | T99: 4 | U99: 1 | V99: 0 | W99: 15 | X99: =O99+P99+S99+T99+U99+V99 | Y99: =IF(W99=X99,"OK","MISMATCH (see notes)") | Z99: =IF(Q99+R99=O99+P99,"OK","MISMATCH")
A100: 1000 | B100: عیدگاه / Eidgah | C100: 187 | D100: 190 | E100: ملا عباس | F100: ملا عباس | G100: Molla Abbas | H100: Molla | I100: دلال | J100: Broker | K100: × | O100: 4 | P100: 3 | Q100: 2 | R100: 5 | S100: 4 | T100: 0 | U100: 0 | V100: 0 | W100: 11 | X100: =O100+P100+S100+T100+U100+V100 | Y100: =IF(W100=X100,"OK","MISMATCH (see notes)") | Z100: =IF(Q100+R100=O100+P100,"OK","MISMATCH")
...

Sheet Unlabeled neighbors
A1: ردیف | B1: محله | C1: صفحه چاپی | D1: صفحه PDF | E1: نام چاپ‌شده | F1: نام استاندارد | G1: نام انگلیسی | H1: لقب | I1: پیشه | J1: Occupation (EN) | K1: رعایا | L1: اغنیاء | M1: نوکران دولت و آستانه | N1: State role (EN) | O1: مردان | P1: زنان | Q1: پیران | R1: جوانان | S1: پسران | T1: دختران | U1: شیرخوار پسر | V1: شیرخوار دختر | W1: جمع جمعیت (چاپی) | X1: جمع محاسبه‌شده | Y1: بررسی ۱ | Z1: بررسی ۲ | AA1: یادداشت | AB1: These rows sit beside Jadid rows but are NOT labeled جدید in the register. Listed only for reference; excluded from totals.
A2: Radif (row no.) | B2: Quarter | C2: Printed page | D2: PDF page | E2: Name as printed | F2: Name, standard spacing | G2: Name (English) | H2: Title | I2: Occupation | J2: Occupation (EN) | K2: Commoner | L2: Wealthy | M2: State/shrine role | N2: State role (EN) | O2: Men | P2: Women | Q2: Elderly | R2: Young adults | S2: Boys | T2: Girls | U2: Infant boys | V2: Infant girls | W2: Total as printed | X2: Total recomputed | Y2: Check 1: parts = total | Z2: Check 2: elderly+young = men+women | AA2: Notes
A3: 450 | B3: عیدگاه / Eidgah | C3: 171 | D3: 174 | E3: خانه مقبره | F3: خانه مقبره | G3: House of the tomb (khaneh-maqbara) | M3: خادم | N3: Shrine attendant | O3: 1 | P3: 3 | Q3: 2 | R3: 2 | S3: 3 | T3: 1 | U3: 0 | V3: 0 | W3: 8 | X3: =O3+P3+S3+T3+U3+V3 | Y3: =IF(W3=X3,"OK","MISMATCH (see notes)") | Z3: =IF(Q3+R3=O3+P3,"OK","MISMATCH")
A4: 622 | B4: عیدگاه / Eidgah | C4: 176 | D4: 179 | E4: خانهٔ وقف | F4: خانهٔ وقف | G4: Endowment house (vaqf) | K4: × | O4: 4 | P4: 8 | Q4: 3 | R4: 9 | S4: 6 | T4: 7 | U4: 0 | V4: 2 | W4: 27 | X4: =O4+P4+S4+T4+U4+V4 | Y4: =IF(W4=X4,"OK","MISMATCH (see notes)") | Z4: =IF(Q4+R4=O4+P4,"OK","MISMATCH")
A5: 627 | B5: عیدگاه / Eidgah | C5: 176 | D5: 179 | E5: محمدباقر ارباب | F5: محمدباقر ارباب | G5: Mohammad-Baqer Arbab | I5: تاجر | J5: Merchant | K5: × | L5: × | O5: 2 | P5: 1 | Q5: 1 | R5: 2 | S5: 0 | T5: 1 | U5: 0 | V5: 0 | W5: 4 | X5: =O5+P5+S5+T5+U5+V5 | Y5: =IF(W5=X5,"OK","MISMATCH (see notes)") | Z5: =IF(Q5+R5=O5+P5,"OK","MISMATCH")
A6: 633 | B6: عیدگاه / Eidgah | C6: 177 | D6: 180 | E6: آقا نوروز | F6: آقا نوروز | G6: Agha Nowruz | K6: × | O6: 2 | P6: 3 | Q6: 1 | R6: 4 | S6: 1 | T6: 2 | U6: 0 | V6: 0 | W6: 8 | X6: =O6+P6+S6+T6+U6+V6 | Y6: =IF(W6=X6,"OK","MISMATCH (see notes)") | Z6: =IF(Q6+R6=O6+P6,"OK","MISMATCH")
A7: 639 | B7: عیدگاه / Eidgah | C7: 177 | D7: 180 | E7: کربلایی علی اکبر | F7: کربلایی علی اکبر | G7: Karbala'i Ali-Akbar | K7: × | O7: 1 | P7: 1 | Q7: 0 | R7: 2 | S7: 1 | T7: 3 | U7: 0 | V7: 0 | W7: 6 | X7: =O7+P7+S7+T7+U7+V7 | Y7: =IF(W7=X7,"OK","MISMATCH (see notes)") | Z7: =IF(Q7+R7=O7+P7,"OK","MISMATCH")
A8: 655 | B8: عیدگاه / Eidgah | C8: 177 | D8: 180 | E8: احمد | F8: احمد | G8: Ahmad | I8: زارع | J8: Farmer | K8: × | O8: 1 | P8: 1 | Q8: 0 | R8: 2 | S8: 1 | T8: 3 | U8: 0 | V8: 0 | W8: 6 | X8: =O8+P8+S8+T8+U8+V8 | Y8: =IF(W8=X8,"OK","MISMATCH (see notes)") | Z8: =IF(Q8+R8=O8+P8,"OK","MISMATCH")
A9: 656 | B9: عیدگاه / Eidgah | C9: 177 | D9: 180 | E9: حسن | F9: حسن | G9: Hasan | I9: زارع | J9: Farmer | K9: × | O9: 3 | P9: 2 | Q9: 1 | R9: 4 | S9: 1 | T9: 0 | U9: 0 | V9: 1 | W9: 7 | X9: =O9+P9+S9+T9+U9+V9 | Y9: =IF(W9=X9,"OK","MISMATCH (see notes)") | Z9: =IF(Q9+R9=O9+P9,"OK","MISMATCH")
A10: 931 | B10: عیدگاه / Eidgah | C10: 185 | D10: 188 | E10: حاجی محمدجعفر | F10: حاجی محمدجعفر | G10: Haji Mohammad-Ja'far | I10: شعرباف | J10: Sha'rbaf (weaver) | K10: × | O10: 3 | P10: 3 | Q10: 2 | R10: 4 | S10: 1 | T10: 0 | U10: 0 | V10: 0 | W10: 7 | X10: =O10+P10+S10+T10+U10+V10 | Y10: =IF(W10=X10,"OK","MISMATCH (see notes)") | Z10: =IF(Q10+R10=O10+P10,"OK","MISMATCH")
A11: 1183 | B11: عیدگاه / Eidgah | C11: 192 | D11: 195 | E11: حسن | F11: حسن | G11: Hasan | K11: × | O11: 1 | P11: 1 | Q11: 1 | R11: 1 | S11: 1 | T11: 0 | U11: 0 | V11: 0 | W11: 3 | X11: =O11+P11+S11+T11+U11+V11 | Y11: =IF(W11=X11,"OK","MISMATCH (see notes)") | Z11: =IF(Q11+R11=O11+P11,"OK","MISMATCH")
A12: 1185 | B12: عیدگاه / Eidgah | C12: 192 | D12: 195 | E12: حاجی عبدالحسین | F12: حاجی عبدالحسین | G12: Haji Abd-ol-Hosein | I12: رزاز | J12: Rice seller | K12: × | O12: 2 | P12: 2 | Q12: 1 | R12: 3 | S12: 0 | T12: 0 | U12: 1 | V12: 0 | W12: 5 | X12: =O12+P12+S12+T12+U12+V12 | Y12: =IF(W12=X12,"OK","MISMATCH (see notes)") | Z12: =IF(Q12+R12=O12+P12,"OK","MISMATCH")
A13: 1186 | B13: عیدگاه / Eidgah | C13: 192 | D13: 195 | E13: کربلایی قربان | F13: کربلایی قربان | G13: Karbala'i Qorban | I13: چرخ‌تاب | J13: Thread twister | K13: × | O13: 2 | P13: 2 | Q13: 1 | R13: 3 | S13: 1 | T13: 2 | U13: 0 | V13: 0 | W13: 7 | X13: =O13+P13+S13+T13+U13+V13 | Y13: =IF(W13=X13,"OK","MISMATCH (see notes)") | Z13: =IF(Q13+R13=O13+P13,"OK","MISMATCH")

Sheet Summary
A1: Summary of the Mashadi Jadid households of 1878 (1295 AH census of Mashad)
A3: Households labeled Jadid / خانوار | B3: =COUNTA('Jadid households'!A3:A116)
A4: Eidgah / عیدگاه | B4: =COUNTIF('Jadid households'!B3:B116,"*Eidgah*")
A5: Sarshur / سرشور | B5: =COUNTIF('Jadid households'!B3:B116,"*Sarshur*")
A6: Bala-Khiyaban / بالاخیابان | B6: =COUNTIF('Jadid households'!B3:B116,"*Bala*")
A7: Wealthy (×) / اغنیاء | B7: =COUNTIF('Jadid households'!L3:L116,"×")
A8: Commoner (×) / رعایا | B8: =COUNTIF('Jadid households'!K3:K116,"×")
A9: Men / مردان | B9: =SUM('Jadid households'!O3:O116)
A10: Women / زنان | B10: =SUM('Jadid households'!P3:P116)
A11: Elderly / پیران | B11: =SUM('Jadid households'!Q3:Q116)
A12: Young adults / جوانان | B12: =SUM('Jadid households'!R3:R116)
A13: Boys / پسران | B13: =SUM('Jadid households'!S3:S116)
A14: Girls / دختران | B14: =SUM('Jadid households'!T3:T116)
A15: Infant boys | B15: =SUM('Jadid households'!U3:U116)
A16: Infant girls | B16: =SUM('Jadid households'!V3:V116)
A17: Total people, as printed | B17: =SUM('Jadid households'!W3:W116)
A18: Total people, recomputed from parts | B18: =SUM('Jadid households'!X3:X116)
A19: Rows where printed total differs from parts | B19: =COUNTIF('Jadid households'!Y3:Y116,"MISMATCH*")
A20: Rows where elderly+young differs from men+women | B20: =COUNTIF('Jadid households'!Z3:Z116,"MISMATCH")

Sheet Occupations
A1: پیشه | B1: Occupation (EN) | C1: Households
A2: تاجر | B2: Merchant | C2: =COUNTIF('Jadid households'!I3:I116,A2)
A3: دلال | B3: Broker | C3: =COUNTIF('Jadid households'!I3:I116,A3)
A4: سوداگر | B4: Trader | C4: =COUNTIF('Jadid households'!I3:I116,A4)
A5: شعرباف | B5: Sha'rbaf (weaver) | C5: =COUNTIF('Jadid households'!I3:I116,A5)
A6: سرایدار | B6: Caretaker / doorkeeper | C6: =COUNTIF('Jadid households'!I3:I116,A6)
A7: دلاک جدیدها | B7: Bath attendant / scrubber (dallak), of the Jadids | C7: =COUNTIF('Jadid households'!I3:I116,A7)
A8: عطار | B8: Perfumer / apothecary | C8: =COUNTIF('Jadid households'!I3:I116,A8)
A9: حکمی | B9: Hakimi (unresolved: occupation or family name) | C9: =COUNTIF('Jadid households'!I3:I116,A9)
A10: (none printed) | C10: =COUNTBLANK('Jadid households'!I3:I116)

Sheet Exceptions for reader
A1: Radif | B1: Issue | C1: What was done
A2: 456 | B2: Printed row total is 13 but the parts add to 12. | C2: Reader confirmed all cells as printed. Typo in the printed edition (original manuscript not consulted, so it may be the clerk's or the 2003 typesetting). The page-footer total only works with 12. Kept 13 as printed, flagged.
A3: 1261 | B3: Printed row total is 3 but the parts add to 2. | C3: Reader confirmed as printed. Typo in the printed edition (original manuscript not consulted, so it may be the clerk's or the 2003 typesetting). Page-footer total only works with 2. Kept 3 as printed, flagged.
A4: 1184 | B4: Men cell is smudged on the scan. | C4: RESOLVED: Persian reader confirms 3 (Oct 26 2026). Name Molla Morad confirmed.
A5: 1181 | B5: Name printed ملا آقای (Aghay). | C5: RESOLVED: Persian reader reads it as Molla Aghaye.
A6: 935 | B6: Occupation printed حکمی (hakimi), not حکیم. The editor's own table prints it as حکمی with a question mark. | C6: UNRESOLVED. Persian reader: hakim would likely mean doctor, but for hakimi she is not sure; it could be an occupation or a family name. Kept as printed in the occupation column.
A7: 619 | B7: Occupation cell reads دلاک جدیدها (dallak = public-bath attendant who scrubs bathers, not دلال broker). | C7: RESOLVED: reader confirms the wording. Translation: bath attendant of the Jadids.
A8: 934 | B8: Name printed حجی (not حاجی). | C8: RESOLVED: reader reads it as Haji. Kept spelling as printed.
A9: 928, 930, 938, 654, 659 | B9: Faint wealthy marks. | C9: RESOLVED: reader confirms each is a mark. Names 928/930 Molla Esma'il, 1188 Ebrahim confirmed.
A10: 638 | B10: Elderly cell is blank (1,1,blank,2,1,3). A helper read it as 1; zoom confirms blank. | C10: Kept blank (0).
A11: 633 (reader confirmed) | B11: آقا نوروز sits among Jadid rows but has no جدید label. | C11: Excluded. Listed on the Unlabeled neighbors sheet.
A12: 623, 647 | B12: Commoner cell blank; they carry a role (کدخدا headman, نوکر آستانه shrine servant). | C12: Recorded as printed.

Sheet Method
A1: Source: Nofus-e Arz-e Aqdas ya Mardom-e Mashhad-e Qadim (the 1295 AH / 1878 census of Mashad), by Zeyn al-Abedin Mirza Qajar, edited and annotated (tashih va tozih) by Mehdi Seyyedi. Mashhad: Sazman-e Farhangi-ye Shahrdari-ye Mashhad (owner of the work); Sherkat-e Ta'avoni-ye Ketab-e Moshaver-e Khorasan; first printing spring 1382 SH (2003); 1,000 copies; ISBN 964-5914-19-1. The tables are the editor's typeset edition; the original manuscript was not consulted.
A2: Jadid = the word جدید printed after the household head name. 114 households: 111 Eidgah, 2 Sarshur, 1 Bala-Khiyaban.
A3: The 114 radif numbers match the list printed in the editor's own text on PDF page 56 exactly.
A4: Every row was read from the page image, then checked two ways: (1) men+women+boys+girls+infants = total; (2) elderly+young = men+women. Two printed totals fail (456, 1261) and the page-footer column sums show the printed total is the odd one out in both cases, so these are typos in the printed edition.
A5: Independent check: three separate readers re-read all 114 rows from the PDF without seeing these values. All 114 names, status marks and every number agree, after zoom review of the one disagreement (638).
A6: Name spellings follow the print exactly, including missing spaces and the joined forms like ملابراهیم. The standard-spacing column is only a convenience.
A7: The register also has columns for lodgers (مجاورین) and disabled (ناقصین). All 114 Jadid rows are blank in both, so they are not repeated here.
A8: The register also has a column for poor households (فقرا). It is not reproduced in this dataset. One of the 114 households carries that mark.
A9: English names are transliterations, not source text. Printed page = PDF page minus 3.
A10: Where this table differs from the editor's own summary (introduction, printed page 53, PDF page 56): the editor gives 54 wealthy households and the rest middle or unknown; this table counts 80 wealthy and 112 commoner marks from the rows. The editor gives Molla 44, Karbala'i 10, Agha 6, Haji 4; the rows give Molla 56, Karbala'i 9, Agha 5, Haji 6. His trade table has 114 households with 5 brokers, 4 traders, 7 merchants, 1 perfumer, 2 weavers, 1 shrine servant, 1 hokmi(?), 93 unspecified. We report what the rows say and do not know how the editor counted.
